Workbook
Name 設備: #REF!
Name 設備: [1]データ参照シート!$B$2
Name 設備: [1]データ参照シート!$B$2
Name 設備: [1]データ参照シート!$B$2
Name 設備: [1]データ参照シート!$B$2
Name 設備: [1]データ参照シート!$B$2
Name 設備: [1]データ参照シート!$B$2
Name 設備: [1]データ参照シート!$B$2
Name 設備: [1]データ参照シート!$B$2
Name 設備: [1]データ参照シート!$B$2
Name 設備: #REF!
Name 設備: #REF!
Name 設備: #REF!
Name 前払い: '共通１ー１（基本情報（１）～（11））'!$R$214
Name 大分類: #REF!
Name 大分類: #REF!
Name 大分類: #REF!
Name 大分類: #REF!
Name 大分類: #REF!
Name 大分類: #REF!
Name 大分類: [2]基本情報!#REF!
Name 大分類: #REF!
Name 大分類: #REF!
Name 大分類: [3]基本情報入力シート!#REF!
Name 大分類: [3]基本情報入力シート!#REF!
Name 大分類: #REF!
Name 大分類: [4]基本情報!#REF!
Name 大分類: [4]基本情報!#REF!
Name 大分類: [4]基本情報!#REF!
Name 大分類: #REF!
Name 大分類: #REF!
Name 第10号の２様式: #REF!
Name 第10号の３様式: #REF!
Name 別1その2: [5]対策!$K$2:$K$9
Name 別1その2: [5]対策!$K$2:$K$9
Name 別1その2: [5]対策!$K$2:$K$9
Name 別1その2: [5]対策!$K$2:$K$9
Name 別1その2: [5]対策!$K$2:$K$9
Name 別1その2: [5]対策!$K$2:$K$9
Name 別1その2: #REF!
Name 別1その2: [5]対策!$K$2:$K$9
Name 別1その2: [5]対策!$K$2:$K$9
Name 別1その2: [5]対策!$K$2:$K$9
Name 別1その2: #REF!

Sheet 記載要領
B2: 区市町村公共施設等への再生可能エネルギー導入促進事業 申請関係様式の記入要領
B17: １．入力の流れ
C18: （１）交付申請について
D19: 共通様式１－２から申請する助成対象設備を入力してください。
D20: 共通様式１－２を作成後、共通様式２より助成金額を計算してください。
C21: （２）その他届出、申請について
D22: 実績報告を除く届出、申請にも使用することができるため、大切に保管してください。
C24: （3）個別様式への入力
F26: セルの色が黄色い部分に入力してください。
F28: セルの色が水色の部分は自動計算、又はリンク自動表示されています。入力は不要です。
F30: セルの色がピンク色の部分は、プルダウンリストから選択してください。
F32: セルが着色されていない部分は、全て保護が掛かっていますので、入力はできません。
B35: 区市町村公共施設等への再生可能エネルギー導入促進事業 申請関係様式のpdf作成要領
B38: １．申請する各様式のpdf作成ついて
D39: 各様式を印刷するにあたっては、セルの色を印刷しないようお願い致します。
B42: ２．設定方法
D43: ※本ファイルは、セルの色を印刷しないよう設定しています。
D44: もし、設定が解除されておりましたら、下記の手順を基に設定してください。
C46: 【印刷設定の手順】
D47: ①「ファイル」メニューの「ページ設定」を実行し、「ページ設定」ダイアログボックスを表示する。
D48: ②「シート」タブをクリックして「白黒印刷」チェックボックスをオンにする。
D50: 「印刷プレビュー」→「ページ設定」→「シート」タブ→印刷の「白黒印刷」にチェック→「OK」→印刷

Sheet 日本標準産業中分類
B1: 日本標準産業中分類
B2: 大分類 | C2: 中分類
B3: Ａ 農業、林業 | C3: 1 農業
C4: 2 林業
B5: Ｂ 漁業 | C5: 3 漁業
C6: 4 水産養殖業
B7: Ｃ 鉱業、採石業、砂利採取業 | C7: 5 鉱業、採石業、砂利採取業
B8: Ｄ 建設業 | C8: 6 総合工事業
C9: 7 職別工事業（設備工事業を除く）
C10: 8 設備工事業
B11: Ｅ 製造業 | C11: 9 食料品製造業
C12: 10 飲料・たばこ・飼料製造業
C13: 11 繊維工業
C14: 12 木材・木製品製造業（家具を除く）
C15: 13 家具・装備品製造業
C16: 14 パルプ・紙・紙加工品製造業
C17: 15 印刷・同関連業
C18: 16 化学工業
C19: 17 石油製品・石炭製品製造業
C20: 18 プラスチック製品製造業（別掲を除く）
C21: 19ゴム製品製造業
C22: 20なめし革・同製品・毛皮製造業
C23: 21 窯業・土石製品製造業
... C34: 32 その他の製造業
B35: Ｆ 電気・ガス・熱供給・水道業 | C35: 33 電気業
C36: 34 ガス業
C37: 35 熱供給業
C38: 36 水道業
B39: Ｇ 情報通信業 | C39: 37 通信業
C40: 38 放送業
C41: 39 情報サービス業
C42: 40 インターネット付随サービス業
C43: 41 映像・音声・文字情報制作業
B44: Ｈ 運輸業、郵便業 | C44: 42 鉄道業
C45: 43 道路旅客運送業
C46: 44 道路貨物運送業
C47: 45 水運業
C48: 46 航空運輸業
C49: 47 倉庫業
C50: 48 運輸に附帯するサービス業
...

Sheet 会社規模判断資料
B2: 中小企業法上の分類 | C2: 資本金の額または出資の額の総額 | E2: 常時使用する従業員の数
B3: 製造業・その他 | C3: 3億円以下 | E3: 300人以下
B4: 卸売業 | C4: 1億円以下 | E4: 100人以下
B5: サービス業 | C5: 5千万円以下 | E5: 100人以下
B6: 小売業 | C6: 5千万円以下 | E6: 50人以下
B8: 中小企業法上の分類 | C8: 日本標準産業分類
B9: 中小企業法上の分類 | C9: 大分類コード | D9: 中分類コード | E9: 小分類コード | F9: 細分類コード | G9: 項目名
B10: 製造業・その他 | C10: A | D10: 0 | E10: 0 | F10: 0 | G10: 農業，林業
B11: 製造業・その他 | C11: A | D11: 1 | E11: 0 | F11: 0 | G11: 農業
B12: 製造業・その他 | C12: A | D12: 1 | E12: 10 | F12: 0 | G12: 管理，補助的経済活動を行う事業所（01農業）
B13: 製造業・その他 | C13: A | D13: 1 | E13: 10 | F13: 100 | G13: 主として管理事務を行う本社等
B14: 製造業・その他 | C14: A | D14: 1 | E14: 10 | F14: 109 | G14: その他の管理，補助的経済活動を行う事業所
B15: 製造業・その他 | C15: A | D15: 1 | E15: 11 | F15: 0 | G15: 耕種農業
B16: 製造業・その他 | C16: A | D16: 1 | E16: 11 | F16: 111 | G16: 米作農業
B17: 製造業・その他 | C17: A | D17: 1 | E17: 11 | F17: 112 | G17: 米作以外の穀作農業
B18: 製造業・その他 | C18: A | D18: 1 | E18: 11 | F18: 113 | G18: 野菜作農業（きのこ類の栽培を含む）
B19: 製造業・その他 | C19: A | D19: 1 | E19: 11 | F19: 114 | G19: 果樹作農業
B20: 製造業・その他 | C20: A | D20: 1 | E20: 11 | F20: 115 | G20: 花き作農業
B21: 製造業・その他 | C21: A | D21: 1 | E21: 11 | F21: 116 | G21: 工芸農作物農業
... B2118: 製造業・その他 | C2118: T | D2118: 99 | E2118: 999 | F2118: 9999 | G2118: 分類不能の産業

Sheet 第1号
A1: 第１号様式（第８条関係) | BA1: 第１号様式（第８条関係)
M3: 年 | O3: 月 | Q3: 日 | BK3: 令和５ | BM3: 年 | BN3: 6 | BO3: 月 | BP3: 1 | BQ3: 日 | BX3: 令和6 | BY3: 1 | BZ3: 1
BX4: 令和7 | BY4: 2 | BZ4: 2
A5: 公益財団法人 東京都環境公社 | BA5: 公益財団法人 東京都環境公社 | BX5: 令和8 | BY5: 3 | BZ5: 3
A6: 理事長 殿 | BA6: 理事長 殿 | BY6: 4 | BZ6: 4
BY7: 5 | BZ7: 5
I8: （助成対象事業者） | BI8: （助成対象事業者） | BY8: 6 | BZ8: 6
I9: 住 所 | J9: =IF('共通１ー１（基本情報（１）～（11））'!C6="","",'共通１ー１（基本情報（１）～（11））'!C6) | L9: =IF('共通１ー１（基本情報（１）～（11））'!C7="","",'共通１ー１（基本情報（１）～（11））'!C7&'共通１ー１（基本情報（１）～（11））'!C8&'共通１ー１（基本情報（１）～（11））'!C9) | BI9: 住 所 | BJ9: =#REF! -> #REF! | BL9: =#REF! -> #REF! | BY9: 7 | BZ9: 7
I10: 名 称 | J10: =IF('共通１ー１（基本情報（１）～（11））'!C5="","",'共通１ー１（基本情報（１）～（11））'!C5) | BI10: 名 称 | BJ10: =#REF! -> #REF! | BY10: 8 | BZ10: 8
I11: 代表者 | J11: =IF('共通１ー１（基本情報（１）～（11））'!C10="","",'共通１ー１（基本情報（１）～（11））'!C10) | M11: =IF('共通１ー１（基本情報（１）～（11））'!C11="","",'共通１ー１（基本情報（１）～（11））'!C11) | BI11: 代表者 | BJ11: =#REF! -> #REF! | BM11: =#REF! -> #REF! | BY11: 9 | BZ11: 9
I12: 担当者 | J12: =IF('共通１ー１（基本情報（１）～（11））'!C12="","",'共通１ー１（基本情報（１）～（11））'!C12) | M12: =IF('共通１ー１（基本情報（１）～（11））'!C13="","",'共通１ー１（基本情報（１）～（11））'!C13) | BI12: 担当者 | BJ12: =#REF! -> #REF! | BM12: =#REF! -> #REF! | BY12: 10 | BZ12: 10
BY13: 11 | BZ13: 11
I14: （手続代行者） | BI14: （手続代行者） | BY14: 12 | BZ14: 12
I15: 住 所 | J15: =IF('共通１ー１（基本情報（１）～（11））'!C61="","",'共通１ー１（基本情報（１）～（11））'!C61&'共通１ー１（基本情報（１）～（11））'!C62&'共通１ー１（基本情報（１）～（11））'!C63) | BI15: 住 所 | BJ15: =#REF! -> #REF! | BZ15: 13
I16: 名 称 | J16: =IF('共通１ー１（基本情報（１）～（11））'!C59="","",'共通１ー１（基本情報（１）～（11））'!C59) | BI16: 名 称 | BJ16: =#REF! -> #REF! | BZ16: 14
I17: 代表者 | J17: =IF('共通１ー１（基本情報（１）～（11））'!C64="","",'共通１ー１（基本情報（１）～（11））'!C64) | M17: =IF('共通１ー１（基本情報（１）～（11））'!C65="","",'共通１ー１（基本情報（１）～（11））'!C65) | BI17: 代表者 | BJ17: =#REF! -> #REF! | BM17: =#REF! -> #REF! | BZ17: 15
I18: 担当者 | J18: =IF('共通１ー１（基本情報（１）～（11））'!C66="","",'共通１ー１（基本情報（１）～（11））'!C66) | M18: =IF('共通１ー１（基本情報（１）～（11））'!C67="","",'共通１ー１（基本情報（１）～（11））'!C67) | BI18: 担当者 | BJ18: =#REF! -> #REF! | BM18: =#REF! -> #REF! | BZ18: 16
BZ19: 17
BB20: 助成金交付申請書 | BZ20: 18
BZ21: 19
A22: 助成金交付申請書 | BZ22: 20
BZ23: 21
B24: 区市町村公共施設等への再生可能エネルギー導入促進事業助成金（都外設置都内消費）交付要綱（令和６年６月25日付６都環公地温第1780号） 第８条第１項の規定に基づき、下記のとおり助成金の交付を申請します。 | BB24: 地産地消型再エネ・蓄エネ設備導入促進事業助成金（都内設置）交付要綱（令和6年●月●日付６都環公地温第●号） 第８条第１項の規定に基づき、下記のとおり助成金の交付を申請します。 | BZ24: 22
B25: 記 | BB25: 記 | BZ25: 23
C26: 助成対象事業の名称 | BZ26: 24
C27: 助成対象事業の開始及び 実績報告書兼助成金交付請求書提出予定日 | K27: ～ | BC27: 助成対象事業の開始及び 完了予定日 | BK27: ～ | BZ27: 25
C28: 助成金交付申請額等 | H28: (1) 助成事業に要する経費 | K28: =IF(L9="","",共通２_発電設備!G42) | P28: 円 | BC28: 助成金交付申請額等 | BH28: (1) 助成事業に要する経費 | BP28: 円 | BZ28: 26
BZ29: 27
H30: (2) 助成対象経費 | K30: =IF(L9="","",共通２_発電設備!M43) | P30: 円 | BH30: (3) 助成対象経費 | BP30: 円 | BZ30: 28
BZ31: 29
H32: (3) 助成金交付申請額 | K32: =IF(L9="","",共通２_発電設備!M46) | P32: 円 | BH32: (4) 助成金交付申請額 | BP32: 円 | BZ32: 30
BC33: ※他助成金等受給(予定)額はその他執行団体等の補助金・助成金を申請しない場合は | BZ33: 31
BD34: 【0】を記入してください。

Sheet 第２号 (助成対象者) 
B1: 第２号様式（第８条関係)
B2: 誓 約 書
A3: 【助成対象者】
B5: 公益財団法人 東京都環境公社
B6: 理事長 殿
A8: １． | B8: 区市町村公共施設等への再生可能エネルギー導入促進事業助成金（都外設置都内消費）交付要綱（令和６年６月25日付６都環公地温第1780号） 第８条第１項の規定に基づく助成金の交付の申請を行うに当たり、当該申請により助成金等の交付を受けようとする者（法人その他の団体にあっては、代表者、役員又は使用人その他の従業員若しくは構成員を含む。）が交付要綱第４条に規定する助成対象事業者又は、交付要綱第９条の規定に基づき、助成対象事業者から依頼を受け、当該申請に係る手続きの代行を行うもの（以下、「手続き代行者」という。）に該当し、将来にわたっても該当するよう法令等を遵守することをここに誓約いたします。 | AT8: ←※各誓約内容をご確認のうえ、チェックを入れてください。
A13: ２. | B13: この誓約に違反又は相違があり、交付要綱第22条の規定により助成金交付決定の全部又は一部の取消しを受けた場合において、交付要綱第24条に規定する助成金の返還を請求されたときは、これに異議なく応じることを誓約いたします。
A16: ３. | B16: 貴公社理事長又は東京都が必要と認めた場合には、暴力団関係者であるか否かの確認のため、警視庁へ照会がなされることに同意いたします。
C18: ※ この誓約書における「暴力団関係者」とは、次に掲げる者をいう。
D19: ・暴力団又は暴力団員が実質的に経営を支配する法人等に所属する者
D20: ・暴力団又は暴力団員を雇用している者
D21: ・暴力団又は暴力団員を不当に利用していると認められる者
D22: ・暴力団の維持、運営に協力し、又は関与していると認められる者
D23: ・暴力団又は暴力団員と社会的に非難されるべき関係を有していると認められる者
A24: ４. | B24: 当該申請した事業は、取得財産等の処分制限がかかる期間において「再生可能エネルギー電気の利用の促進に関する特別措置法」（平成23年法律第108号）第９条第４項の認定を受けないことに同意いたします。
A26: ５. | B26: 助成対象設備を設置する施設の所有者および関連する権利関係者に交付要綱第３条、第５条、第11条、第12条、第28条、第33条及び第34条の規定を周知した上で、助成金交付申請及び助成対象設備の設置に関する許可を得ていることを誓約いたします。
A29: ６. | B29: 助成事業実施するに当たり、交付要綱、その他関係法令の規程を遵守することを誓約いたします。
A31: ７. | B31: 本申請書は、事実に基づき、申請者の不利益にならない範囲において訂正される可能性があることについて同意いたします。
A33: ８. | B33: 本申請について、契約を締結するにあたり、キャッシュバック等（※）を利用する場合は、その額は助成対象経費から除き申請します。 ※「キャッシュバック等」とは、キャッシュバックや協賛金（工事実績のＨＰ掲載に対する謝礼等）等の名目で、設備等の購入者や工事の発注者に対して購入額の一部又は全額に相当する金額を払い戻すものであり、購入額を実質的に減額又は無償とするものです。
A36: ９. | B36: 施工業者について、次の事項を理解し、法令上必要な許可等を受けていることを確認したことを誓約いたします。 ・建設業法では、税込 500 万円以上（建築一式工事にあっては、税込 1,500 万円以上）の建設工事を請け負う場合は、建設業の許可を得なければならないと定められており、建設業の許可を受けずに税込 500 万円以上の工事を請け負った場合は建設業法違反になること。 ・電気工事業法により、契約額にかかわらず、自社で施工する場合は自社、別の事業者に施工をさせる場合は当該事業者において、電気工事業登録をしている必要があること。
A38: 10. | B38: 本助成対象事業に関する申請等の手続の代行を手続代行者に依頼するにあたり、次の事項を理解し、手続代行者が当該法律違反に該当していないことを誓約します。 ・行政書士ではないものが、他人の依頼を受けいかなる名目によるかを問わず報酬を得て、官公署に提出する書類、その他権利義務又は事実証明に関する書類の作成を業として行うことは法律で禁止されていること。
A40: 11. | B40: 本助成対象事業に関する申請等の手続の代行を手続代行者に依頼した場合であっても、当該手続代行者の行為について、最終的な責任を負うことを確認したことを誓約いたします。
A42: 12. | B42: 個人情報を含む申請情報を本助成金事業の審査、交付決定、交付、適正な執行、事業報告、統計分析並びに東京都及び公社が実施する各種事業の広報活動等のため、必要な範囲内で東京都に提供するほか、交付要綱第35条に従い利用されることを承諾します。公社は、個人情報を含む申請情報を「個人情報の保護に関する規程」及び「プライバシーポリシー（個人情報保護方針）」に基づき適切に管理し、法令を遵守します。
K45: 年 | N45: 月 | Q45: 日
G46: 事業者名（法人の場合のみ記入） | W46: 申請者名（法人の場合は代表者役職 氏名）※ | AT46: ←誓約内容を確認し、日付の記入と自著又は押印をしてください。
B49: ※自著又は押印すること

Sheet 第２号 (共同申請者)  
B1: 第２号様式（第８条関係)
B2: 誓 約 書
A3: 【共同申請者】
B5: 公益財団法人 東京都環境公社
B6: 理事長 殿
A8: １． | B8: 区市町村公共施設等への再生可能エネルギー導入促進事業助成金（都外設置都内消費）交付要綱（令和６年６月25日付６都環公地温第1780号） 第８条第１項の規定に基づく助成金の交付の申請を行うに当たり、当該申請により助成金等の交付を受けようとする者（法人その他の団体にあっては、代表者、役員又は使用人その他の従業員若しくは構成員を含む。）が交付要綱第４条に規定する助成対象事業者又は、交付要綱第９条の規定に基づき、助成対象事業者から依頼を受け、当該申請に係る手続きの代行を行うもの（以下、「手続き代行者」という。）に該当し、将来にわたっても該当するよう法令等を遵守することをここに誓約いたします。 | AT8: ←※各誓約内容をご確認のうえ、チェックを入れてください。
A13: ２. | B13: この誓約に違反又は相違があり、交付要綱第22条の規定により助成金交付決定の全部又は一部の取消しを受けた場合において、交付要綱第24条に規定する助成金の返還を請求されたときは、これに異議なく応じることを誓約いたします。
A16: ３. | B16: 貴公社理事長又は東京都が必要と認めた場合には、暴力団関係者であるか否かの確認のため、警視庁へ照会がなされることに同意いたします。
C18: ※ この誓約書における「暴力団関係者」とは、次に掲げる者をいう。
D19: ・暴力団又は暴力団員が実質的に経営を支配する法人等に所属する者
D20: ・暴力団又は暴力団員を雇用している者
D21: ・暴力団又は暴力団員を不当に利用していると認められる者
D22: ・暴力団の維持、運営に協力し、又は関与していると認められる者
D23: ・暴力団又は暴力団員と社会的に非難されるべき関係を有していると認められる者
A24: ４. | B24: 当該申請した事業は、取得財産等の処分制限がかかる期間において「再生可能エネルギー電気の利用の促進に関する特別措置法」（平成23年法律第108号）第９条第４項の認定を受けないことに同意いたします。
A26: ５. | B26: 助成対象設備を設置する施設の所有者および関連する権利関係者に交付要綱第３条、第５条、第11条、第12条、第28条、第33条及び第34条の規定を周知した上で、助成金交付申請及び助成対象設備の設置に関する許可を得ていることを誓約いたします。
A29: ６. | B29: 助成事業実施するに当たり、交付要綱、その他関係法令の規程を遵守することを誓約いたします。
A31: ７. | B31: 本申請書は、事実に基づき、申請者の不利益にならない範囲において訂正される可能性があることについて同意いたします。
A33: ８. | B33: 本申請について、契約を締結するにあたり、キャッシュバック等（※）を利用する場合は、その額は助成対象経費から除き申請します。 ※「キャッシュバック等」とは、キャッシュバックや協賛金（工事実績のＨＰ掲載に対する謝礼等）等の名目で、設備等の購入者や工事の発注者に対して購入額の一部又は全額に相当する金額を払い戻すものであり、購入額を実質的に減額又は無償とするものです。
A36: ９. | B36: 施工業者について、次の事項を理解し、法令上必要な許可等を受けていることを確認したことを誓約いたします。 ・建設業法では、税込 500 万円以上（建築一式工事にあっては、税込 1,500 万円以上）の建設工事を請け負う場合は、建設業の許可を得なければならないと定められており、建設業の許可を受けずに税込 500 万円以上の工事を請け負った場合は建設業法違反になること。 ・電気工事業法により、契約額にかかわらず、自社で施工する場合は自社、別の事業者に施工をさせる場合は当該事業者において、電気工事業登録をしている必要があること。
A38: 10. | B38: 本助成対象事業に関する申請等の手続の代行を手続代行者に依頼するにあたり、次の事項を理解し、手続代行者が当該法律違反に該当していないことを誓約します。 ・行政書士ではないものが、他人の依頼を受けいかなる名目によるかを問わず報酬を得て、官公署に提出する書類、その他権利義務又は事実証明に関する書類の作成を業として行うことは法律で禁止されていること。
A40: 11. | B40: 本助成対象事業に関する申請等の手続の代行を手続代行者に依頼した場合であっても、当該手続代行者の行為について、最終的な責任を負うことを確認したことを誓約いたします。
A42: 12. | B42: 個人情報を含む申請情報を本助成金事業の審査、交付決定、交付、適正な執行、事業報告、統計分析並びに東京都及び公社が実施する各種事業の広報活動等のため、必要な範囲内で東京都に提供するほか、交付要綱第35条に従い利用されることを承諾します。公社は、個人情報を含む申請情報を「個人情報の保護に関する規程」及び「プライバシーポリシー（個人情報保護方針）」に基づき適切に管理し、法令を遵守します。
K45: 年 | N45: 月 | Q45: 日
G46: 事業者名（法人の場合のみ記入） | W46: 申請者名（法人の場合は代表者役職 氏名）※ | AT46: ←誓約内容を確認し、日付の記入と自著又は押印をしてください。
B49: ※自著又は押印すること

Sheet 第２号(手続代行者）
B1: 第２号様式（第８条関係)
B3: 誓 約 書
A4: 【手続代行者】
B6: 公益財団法人 東京都環境公社
B7: 理事長 殿
A9: １． | B9: 区市町村公共施設等への再生可能エネルギー導入促進事業助成金（都外設置都内消費）交付要綱（令和６年６月25日付６都環公地温第1780号） 第８条第１項の規定に基づく助成金の交付の申請を行うに当たり、当該申請により助成金等の交付を受けようとする者（法人その他の団体にあっては、代表者、役員又は使用人その他の従業員若しくは構成員を含む。）が交付要綱第４条に規定する助成対象事業者又は、交付要綱第９条の規定に基づき、助成対象事業者から依頼を受け、当該申請に係る手続きの代行を行うもの（以下、「手続き代行者」という。）に該当し、将来にわたっても該当するよう法令等を遵守することをここに誓約いたします。 | AT9: ←※各誓約内容をご確認のうえ、チェックを入れてください。
A14: ２. | B14: この誓約に違反又は相違があり、交付要綱第22条の規定により助成金交付決定の全部又は一部の取消しを受けた場合において、交付要綱第24条に規定する助成金の返還を請求されたときは、これに異議なく応じることを誓約いたします。
A17: ３. | B17: 貴公社理事長又は東京都が必要と認めた場合には、暴力団関係者であるか否かの確認のため、警視庁へ照会がなされることに同意いたします。
C19: ※ この誓約書における「暴力団関係者」とは、次に掲げる者をいう。
D20: ・暴力団又は暴力団員が実質的に経営を支配する法人等に所属する者
D21: ・暴力団又は暴力団員を雇用している者
D22: ・暴力団又は暴力団員を不当に利用していると認められる者
D23: ・暴力団の維持、運営に協力し、又は関与していると認められる者
D24: ・暴力団又は暴力団員と社会的に非難されるべき関係を有していると認められる者
A25: ４. | B25: 事業の円滑な推進のため、交付要綱及びその他公社が定める交付申請等に係る全ての要件を理解し、申請者にその内容を誤りのないよう説明するとともに、当該申請者及び公社との連携を図ることを誓約いたします。
A27: ５. | B27: 交付要綱及びその他公社が定める手続を遅滞なく行うとともに、公社からの内容確認等に対し、指定される期限までに回答することを誓約いたします。
A29: ６. | B29: 公社が、必要に応じて、手続代行者が行う手続について調査を実施し、手続代行者が交付要綱の規定に従って手続を遂行していないと認めるときは、当該手続代行者に対し、代行の停止を求めることができることに同意します。
A31: ７. | B31: 前項の調査に協力することを同意します。
A33: ８. | B33: 従業員等（本事業に関する業務を委託する場合は当該委託事業者を含む。）に対して、交付要綱及びその他公社が定める交付申請等に係る全ての要件について、周知徹底するとともに、指揮監督を行うことを誓約いたします。
A35: ９. | B35: 本申請書は、事実に基づき、申請者の不利益にならない範囲において訂正される可能性があることについて同意いたします。
A37: 10. | B37: 本申請について、契約を締結するにあたり、キャッシュバック等（※）を利用する場合は、その額は助成対象経費から除き申請します。 ※「キャッシュバック等」とは、キャッシュバックや協賛金（工事実績のＨＰ掲載に対する謝礼等）等の名目で、設備等の購入者や工事の発注者に対して購入額の一部又は全額に相当する金額を払い戻すものであり、購入額を実質的に減額又は無償とするものです。
A39: 11. | B39: 施工業者について、次の事項を理解し、法令上必要な許可等を受けていることを確認したことを誓約します。
B40: ・建設業法では、税込 500 万円以上（建築一式工事にあっては、税込 1,500 万円以上）の建設工事を請け負う場合は、建設業の許可を得なければならないと定められており、建設業の許可を受けずに税込 500 万円以上の工事を請け負った場合は建設業法違反になること。 ・電気工事業法により、契約額にかかわらず、自社で施工する場合は自社、別の事業者に施工をさせる場合は当該事業者において、電気工事業登録をしている必要があること。
A43: 12. | B43: 本助成対象事業に関する申請等の手続を代行するにあたり、次の事項を理解し、当該法律違反に該当しないことを誓約します。
B45: ・行政書士ではないものが、他人の依頼を受けいかなる名目によるかを問わず報酬を得て、官公署に提出する書類、その他権利義務又は事実証明に関する書類の作成を業として行うことは法律で禁止されていること。
A47: 13. | B47: 本助成対象事業に関する申請等の手続を代行するにあたり、手続代行者の行為について、申請者に帰属し、当該行為に伴う責任が助成事業者にも及ぶことを確認したことを誓約します。
A49: 14. | B49: 個人情報を含む申請情報を本助成金事業の審査、交付決定、交付、適正な執行、事業報告、統計分析並びに東京都及び公社が実施する各種事業の広報活動等のため、必要な範囲内で東京都に提供するほか、交付要綱第35条に従い利用されることを承諾します。公社は、個人情報を含む申請情報を「個人情報の保護に関する規程」及び「プライバシーポリシー（個人情報保護方針）」に基づき適切に管理し、法令を遵守します。
K52: 年 | N52: 月 | Q52: 日
G53: 事業者名 | W53: 代表者役職 氏名※ | AT53: ←誓約内容を確認し、日付の記入と自著又は押印をしてください。
B56: ※自著又は押印すること

Sheet 共通１ー１（基本情報（１）～（11））
A1: 共通様式１（第８条関係)
A2: 事業実施計画書
A3: １．助成事業に関する基本情報
A4: （１）助成対象事業者
A5: 事業者の名称
A6: （本社）所在地 | B6: 〒
B7: 住所（都道府県）
B8: 住所（区市町村）
B9: 住所（区市町村以降）
A10: 代表者 | B10: 役職名
B11: 氏名
A12: 担当者連絡先 | B12: 部課名
B13: 氏名
B14: 電話番号
B15: E-mail
A17: （２）共同申請者①
A18: 役割 | C18: 選択
A19: 事業者の名称
A20: （本社）所在地 | B20: 〒
B21: 住所（都道府県）
B22: 住所（区市町村）
B23: 住所（区市町村以降）
A24: 代表者 | B24: 役職名
B25: 氏名
A26: 担当者連絡先 | B26: 部課名
B27: 氏名
B28: 電話番号
B29: E-mail
A31: （３）共同申請者②
A32: 役割 | C32: 選択
A33: 事業者の名称
A34: （本社）所在地 | B34: 〒
B35: 住所（都道府県）
B36: 住所（区市町村）
B37: 住所（区市町村以降）
A38: 代表者 | B38: 役職名
B39: 氏名
A40: 担当者連絡先 | B40: 部課名
B41: 氏名
B42: 電話番号
...

Sheet 共通１ー１（基本情報（12）～（15））
B1: （12）再エネ電気等供給方法の概要 | BB1: （１２）再エネ電気等供給方法の概要
B3: 【再エネ電気等供給方法の概要】 | P3: 形態①～形態⑤のいずれかを選択してください | BB3: 【電力供給方法の概要】
B4: 形態の区分 | E4: 形態①～形態⑤のいずれかを選択してください | P4: 形態① 発電事業者→自己託送→需要家 | BB4: 形態の区分 | BE4: 形態② 発電事業者→小売電気事業者→需要家
B5: 小売電気事業者 | E5: 名称 | P5: 形態② 発電事業者→小売電気事業者→需要家 | BB5: 小売電気事業者 | BE5: 名称 | BF5: ○○○○小売電気事業者
E6: 住所 | P6: 形態③ 発電事業者→需要家 | BE6: 住所 | BF6: ○○県○○市○○区○○町 ２－２－２
B7: 【概要】 | P7: 形態④ 発電事業者→電力市場→需要家 | BB7: 【概要】
P8: 形態⑤ ①から④のいずれにも該当しないもの
B21: ［添付資料］ | BB21: ［添付資料］
B22: ・自己託送、小売電気事業者を介して供給することに係る申込書(写し)（添付資料21） | BB22: ・自己託送、小売電気事業者を介して供給することに係る申込書(写し)（添付資料19）
B24: （13）発電事業者・電力需要家間の契約年数または事業継続年数 | BB24: （１３）発電事業者・電力需要家間の契約年数または事業継続年数
B26: 項目 | E26: 年数 | BB26: 項目 | BE26: 年数
BB27: 電力契約年数（第三者所有） | BE27: 10年
B30: ［添付資料］ | BB30: ［添付資料］
B31: ・電力購入契約書（写し）又は契約書案 （添付資料22） | BB31: ・電力購入契約書（写し）又は契約書案 （添付資料20）
B33: （14）再エネ設置地域との関係構築 | BB33: （１４）再エネ設置地域との関係構築
B35: ①非常時における助成対象設備の利活用に係る協定 | BB35: ①非常時における助成対象設備の利活用に係る協定
B37: 協定締結先 | BB37: 協定締結先
B39: 自治体等の名称 | BB39: 自治体等の名称 | BD39: ○○県○○市
B40: 代表者職・氏名 | BB40: 代表者職・氏名 | BD40: 市長 ○○ ○○○
B41: 住所 | BB41: 住所 | BD41: ○○県○○市○○町１－１－１
B42: 【概要】 | BB42: 【概要】
B55: ［添付資料］ | BB55: ［添付資料］
B56: ・交付要綱第３条第２項第一号を満たすことが分かる資料 （添付資料23） | BB56: ・交付要綱第３条第２項第一号を満たすことが分かる資料 （添付資料22）
B58: ②再エネ設置地域との関係構築 （ (１) を除くもの ） | BB58: ②再エネ設置地域との関係構築 （ (１) を除くもの ）
B60: 関係構築 (ア）～(オ) | O60: （ア）助成対象設備から得られた電気を、本店所在地が再エネ設置地域に属する小売電気事業者に卸し、都内の特定の施設に供給する | BB60: 関係構築 (ア）～(カ) | BC60: （ア）助成対象設備から得られた電気を、本店所在地が再エネ設置地域に属する小売電気事業者に卸し、都内の特定の施設に供給する
O61: （イ）助成対象設備設置に係る出資または融資を、本店所在地が再エネ設置地域に属する事業者または再エネ設置地域住民から受ける
O62: （ウ）助成対象設備に係る施工または維持管理を再エネ設置地域に属する事業者に担わせる
O63: （エ）助成対象設備から得られた電気の需給管理を再エネ設置地域に属する事業者に担わせる
O64: （オ）その他公社が認める再エネ設置地域との関係構築を行う
B65: ③再エネ設置地域事業者（又は小売電気事業者、住民、自治体等） | BB65: ③再エネ設置地域事業者（又は小売電気事業者、住民、自治体等）
B66: 名称 | BB66: 名称 | BC66: 小売電気事業者 株式会社
B67: 代表者名 | BB67: 代表者名 | BC67: 代表取締役 ○○ ○○
B68: 住所 | BB68: 住所 | BC68: ○○県○○市○○区○○町 ２－２－２
B69: 【概要】 | BB69: 【概要】
B82: ［添付資料］ | BB82: ［添付資料］
B83: ・交付要綱第３条第２項第二号ア～オいずれかを満たすことがわかる資料（添付資料24） | BB83: ・交付要綱第３条第２項第二号ア～カいずれかを満たすことがわかる資料（添付資料23）
B87: （15）事業の実施体制 | BB87: （15）事業の実施体制
B89: 以下の事業関係者が記載された、実施体制図を記載、または添付してください | BB89: （１）以下の事業関係者が記載された、実施体制図を記載、または添付してください
C91: (ア)助成対象事業者（申請代表者） | G91: (カ)発電した再エネ電気等の需要先 | L91: □←体制図へ記載した項目はチェックを付けてください。 | BC91: (ア)助成対象事業者（申請代表者） | BG91: (カ)発電した再エネ電気等の需要先
C92: (イ)共同申請者 | G92: (キ)助成対象事業への出資、又は融資者 | BC92: (イ)共同申請者 | BG92: (キ)助成対象事業への出資、又は融資者
...

Sheet 共通１－２(太陽光）
B2: ２．設備の概要(※複数施設で設置の場合は様式をコピーし追加すること) | BB2: ２．設備の概要
B3: ※複数の型式を導入する場合は、それぞれの型式ごとにまとめること。 | BB3: ※複数の型式を導入する場合は、それぞれの型式ごとにまとめること。
B5: （１）設備導入場所の名称 | BB5: （２）設備導入場所ごとの設備概要
C7: 導入場所の名称 | BC7: 導入場所名称 | BF7: =IF('[6]第４号（太陽光,蓄電池）'!BE17="","",'[6]第４号（太陽光,蓄電池）'!BE17) -> ○○県○○市○○町１－１－１
B9: （２）太陽光発電システム出力 | BB9: （１）太陽光発電システム出力
D10: 太陽光発電システム総出力 | G10: =IF(G21="","",IF(MIN(SUM(G21,G29,G37),SUM(G47,G55,G63,G98,G109,G119))>=1,ROUNDDOWN(MIN(SUM(G21,G29,G37),SUM(G47,G55,G63,G98,G109,G119)),0),ROUNDDOWN(MIN(SUM(G21,G29,G37),SUM(G47,G55,G63,G98,G109,G119)),1))) | H10: kW | BD10: 太陽光発電システム総出力 | BG10: =IF(BG21="","",IF(MIN(SUM(BG21,BG29,BG37),SUM(BG47,BG55,BG63,BG98,BG109,BG119))>=1,ROUNDDOWN(MIN(SUM(BG21,BG29,BG37),SUM(BG47,BG55,BG63,BG98,BG109,BG119)),0),ROUNDDOWN(MIN(SUM(BG21,BG29,BG37),SUM(BG47,BG55,BG63,BG98,BG109,BG119)),1))) -> 9 | BH10: kW
D11: ※太陽電池モジュールとパワーコンディショナのいずれか低い方の出力。 | BD11: ※太陽電池モジュールとパワーコンディショナのいずれか低い方の出力。
D12: （1.0kW以上の場合は、小数点以下切り捨て、1.0kW未満の場合は小数点第2位を切り捨て） | BD12: （1.0kW以上の場合は、小数点以下切り捨て、1.0kW未満の場合は小数点第2位を切り捨て）
B14: （３）太陽電池モジュール | BB14: （２）太陽電池モジュール
C15: ① | D15: 機器番号/見積明細番号 | BC15: ① | BD15: 機器番号/見積明細番号 | BG15: Ａ-１
D16: 製造者名（メーカー名） | BD16: 製造者名（メーカー名） | BG16: ○○ソーラー
D17: 型式名 | BD17: 型式名 | BG17: ABC-123
D18: 設備の仕様が確認できるURL | BD18: 設備の仕様が確認できるURL | BG18: https://
D19: １枚あたりの公称最大出力 | J19: W | BD19: １枚あたりの公称最大出力 | BG19: 300 | BJ19: W
D20: 使用枚数 | J20: 枚 | BD20: 使用枚数 | BG20: 40 | BJ20: 枚
D21: 公称最大出力合計 | G21: =IF(G19="","",ROUNDDOWN((G19*G20)/1000,2)) | J21: kW | BD21: 公称最大出力合計 | BG21: =IF(BG19="","",ROUNDDOWN((BG19*BG20)/1000,2)) -> 12 | BJ21: kW
C23: ② | D23: 機器番号/見積明細番号 | BC23: ② | BD23: 機器番号/見積明細番号
D24: 製造者名（メーカー名） | BD24: 製造者名（メーカー名）
D25: 型式名 | BD25: 型式名
D26: 設備の仕様が確認できるURL | BD26: 設備の仕様が確認できるURL
D27: １枚あたりの公称最大出力 | J27: W | BD27: １枚あたりの公称最大出力 | BJ27: W
D28: 使用枚数 | J28: 枚 | BD28: 使用枚数 | BJ28: 枚
D29: 公称最大出力合計 | G29: =IF(G27="","",ROUNDDOWN((G27*G28)/1000,2)) | J29: kW | BD29: 公称最大出力合計 | BG29: =IF(BG27="","",ROUNDDOWN((BG27*BG28)/1000,2)) | BJ29: kW
C31: ③ | D31: 機器番号/見積明細番号 | BC31: ③ | BD31: 機器番号/見積明細番号
D32: 製造者名（メーカー名） | BD32: 製造者名（メーカー名）
D33: 型式名 | BD33: 型式名
D34: 設備の仕様が確認できるURL | BD34: 設備の仕様が確認できるURL
D35: １枚あたりの公称最大出力 | J35: W | BD35: １枚あたりの公称最大出力 | BJ35: W
D36: 使用枚数 | J36: 枚 | BD36: 使用枚数 | BJ36: 枚
D37: 公称最大出力合計 | G37: =IF(G35="","",ROUNDDOWN((G35*G36)/1000,2)) | J37: kW | BD37: 公称最大出力合計 | BG37: =IF(BG35="","",ROUNDDOWN((BG35*BG36)/1000,2)) | BJ37: kW
B40: （４）パワーコンディショナ（※蓄電池一体型ハイブリッドパワコンの場合は、（５）に記載すること。） | BB40: （３）パワーコンディショナ（※蓄電池一体型ハイブリッドパワコンの場合は、（５）に記載すること。）
C41: ① | D41: 機器番号/見積明細番号 | BC41: ① | BD41: 機器番号/見積明細番号 | BG41: Ａ-２
D42: 製造者名（メーカー名） | BD42: 製造者名（メーカー名） | BG42: ○○ソーラー
D43: 型式名 | BD43: 型式名 | BG43: PCS-123
D44: 設備の仕様が確認できるURL | BD44: 設備の仕様が確認できるURL | BG44: https://
D45: １台あたりの定格出力 | J45: kW | BD45: １台あたりの定格出力 | BG45: 9.9 | BJ45: kW
D46: 台数 | J46: 台 | BD46: 台数 | BG46: 1 | BJ46: 台
D47: 定格出力合計 | G47: =IF(G45="","",ROUNDDOWN(G45*G46,2)) | J47: kW | BD47: 定格出力合計 | BG47: =IF(BG45="","",ROUNDDOWN(BG45*BG46,2)) -> 9.9 | BJ47: kW
C49: ② | D49: 機器番号/見積明細番号 | BC49: ② | BD49: 機器番号/見積明細番号
D50: 製造者名（メーカー名） | BD50: 製造者名（メーカー名）
...

Sheet 共通１－２（風力)
B1: ２．設備の概要(※複数施設で設置の場合は様式をコピーし追加すること)
B2: ※複数の型式を導入する場合は、それぞれの型式ごとにまとめること。
B4: （１）設備導入場所の名称 | BB4: （２）設備導入場所ごとの設備概要
C6: 導入場所の名称 | BC6: 導入場所名称 | BF6: =IF('[6]第４号（太陽光,蓄電池）'!BE16="","",'[6]第４号（太陽光,蓄電池）'!BE16) -> ○○県○○市○○町１－１－１
B8: （2）風力発電出力
D9: 発電総出力 | G9: =IF(G17="","",ROUNDDOWN(SUM(G19,G27,G35),1)) | H9: kW
B12: （3）発電機
C13: ① | D13: 機器番号/見積明細番号
D14: 製造者名（メーカー名）
D15: 型式名
D16: 設備の仕様が確認できるURL
D17: １基あたりの定格出力 | J17: W
D18: 基数 | J18: 基
D19: 定格出力合計 | G19: =IF(G17="","",ROUNDDOWN((G17*G18)/1000,2)) | J19: kW
C21: ② | D21: 機器番号/見積明細番号
D22: 製造者名（メーカー名）
D23: 型式名
D24: 設備の仕様が確認できるURL
D25: １基あたりの定格出力 | J25: W
D26: 基数 | J26: 基
D27: 定格出力合計 | G27: =IF(G25="","",ROUNDDOWN((G25*G26)/1000,2)) | J27: kW
C29: ③ | D29: 機器番号/見積明細番号
D30: 製造者名（メーカー名）
D31: 型式名
D32: 設備の仕様が確認できるURL
D33: １基あたりの定格出力 | J33: W
D34: 基数 | J34: 基
D35: 定格出力合計 | G35: =IF(G33="","",ROUNDDOWN((G33*G34)/1000,2)) | J35: kW
B38: （4）蓄電池
C39: ① | D39: 機器番号/見積明細番号
D40: 製造者名（メーカー名）
D41: 型式名
D42: 設備の仕様が確認できるURL
D43: １台あたりの定格容量 | J43: kWh
D44: 台数 | J44: 台
D45: 定格容量合計 | G45: =IF(G43="","",ROUNDDOWN(G43*G44,2)) | J45: kWh
C47: ② | D47: 機器番号/見積明細番号
D48: 製造者名（メーカー名）
D49: 型式名
D50: 設備の仕様が確認できるURL
...

Sheet 共通１－２（水力)
B1: ２．設備の概要(※複数施設で設置の場合は様式をコピーし追加すること)
B2: ※複数の型式を導入する場合は、それぞれの型式ごとにまとめること。
B5: （１）設備導入場所の名称 | BB5: （２）設備導入場所ごとの設備概要
C7: 導入場所の名称 | BC7: 導入場所名称 | BF7: =IF('[6]第４号（太陽光,蓄電池）'!BE17="","",'[6]第４号（太陽光,蓄電池）'!BE17) -> ○○県○○市○○町１－１－１
B9: （2）水力発電出力
D10: 発電総出力 | G10: =IF(G15="","",ROUNDDOWN(SUM(G20,G29,G38),0)) | H10: kW | M10: ※発電総出力1,000kW以下
B12: （3）水力発電設備及び出力
C13: ① | D13: 機器番号/見積明細番号
C14: ① | D14: 発電方式
D15: 水の流量 | J15: m3/s
D16: 有効落差 | J16: m
D17: 重力加速度 | G17: 9.8 | J17: m/s2
D18: 水車の効率 | J18: ％
D19: 発電機の効率 | J19: ％
D20: 定格出力 | G20: =IF(G14="","",ROUNDDOWN((G15*G16*G17*G18/100*G19/100),0)) | J20: kW
D22: 機器番号/見積明細番号
C23: ② | D23: 発電方式
D24: 水の流量 | J24: m3/s
D25: 有効落差 | J25: m
D26: 重力加速度 | G26: 9.8 | J26: m/s2
D27: 水車の効率 | J27: ％
D28: 発電機の効率 | J28: ％
D29: 定格出力 | G29: =IF(G23="","",ROUNDDOWN((G24*G25*G26*G27/100*G28/100),0)) | J29: kW
D31: 機器番号/見積明細番号
C32: ③ | D32: 発電方式
D33: 水の流量 | J33: m3/s
D34: 有効落差 | J34: m
D35: 重力加速度 | G35: 9.8 | J35: m/s2
D36: 水車の効率 | J36: ％
D37: 発電機の効率 | J37: ％
D38: 定格出力 | G38: =IF(G32="","",ROUNDDOWN((G33*G34*G35*G36/100*G37/100),0)) | J38: kW
B41: （4）発電機
C42: ① | D42: 機器番号/見積明細番号
D43: 製造者名（メーカー名）
D44: 型式名
D45: 設備の仕様が確認できるURL
D46: １台あたりの定格出力 | J46: kW
D47: 台数 | J47: 台
D48: 定格出力合計 | G48: =IF(G46="","",ROUNDDOWN((G46*G47),2)) | J48: kW
C50: ② | D50: 機器番号/見積明細番号
...

Sheet 共通１－２（地熱発電)
B1: ２．設備の概要(※複数施設で設置の場合は様式をコピーし追加すること)
B2: ※複数の型式を導入する場合は、それぞれの型式ごとにまとめること。
B4: （１）設備導入場所の名称 | BB4: （２）設備導入場所ごとの設備概要
C6: 導入場所の名称 | BC6: 導入場所名称 | BF6: =IF('[6]第４号（太陽光,蓄電池）'!BE16="","",'[6]第４号（太陽光,蓄電池）'!BE16) -> ○○県○○市○○町１－１－１
B8: （2）地熱発電出力
D9: 発電総出力 | G9: =IF(G20="","",ROUNDDOWN(SUM(G22,G30,G38),0)) | H9: kW
B11: （3）地熱発電設備の発電方式
D12: 発電方式 | M12: ←プルダウンリストから選択してください。 | O12: フラッシュ発電
O13: バイナリー発電
O14: その他
B15: （4）発電機
C16: ① | D16: 機器番号/見積明細番号
D17: 製造者名（メーカー名）
D18: 型式名
D19: 設備の仕様が確認できるURL
D20: １台あたりの定格出力 | J20: kW
D21: 台数 | J21: 台
D22: 定格出力合計 | G22: =IF(G20="","",ROUNDDOWN(G20*G21,2)) | J22: kW
C24: ② | D24: 機器番号/見積明細番号
D25: 製造者名（メーカー名）
D26: 型式名
D27: 設備の仕様が確認できるURL
D28: １台あたりの定格出力 | J28: kW
D29: 台数 | J29: 台
D30: 定格出力合計 | G30: =IF(G28="","",ROUNDDOWN(G28*G29,2)) | J30: kW
C32: ③ | D32: 機器番号/見積明細番号
D33: 製造者名（メーカー名）
D34: 型式名
D35: 設備の仕様が確認できるURL
D36: １台あたりの定格出力 | J36: kW
D37: 台数 | J37: 台
D38: 定格出力合計 | G38: =IF(G36="","",ROUNDDOWN(G36*G37,2)) | J38: kW
B41: （5）タービン
C42: ① | D42: 機器番号/見積明細番号
D43: 製造者名（メーカー名）
D44: 型式名
D45: 設備の仕様が確認できるURL
D46: １台あたりの定格出力 | J46: kW
D47: 台数 | J47: 台
D48: 定格出力合計 | G48: =IF(G46="","",ROUNDDOWN(G46*G47,2)) | J48: kW
...

Sheet 共通１－２（バイオマス）
B1: ２．設備の概要(※複数施設で設置の場合は様式をコピーし追加すること)
B2: ※複数の型式を導入する場合は、それぞれの型式ごとにまとめること。
B3: （１）設備導入場所の名称
C5: 導入場所の名称
B7: （２）発電機総出力（事業費合計値）
D8: 発電機総出力 | F8: =IFERROR(G37+G46+G55,"") | H8: kW
B10: （３）バイオマス発電設備
D11: 形態 | M11: ←プルダウンリストから選択してください
D12: １日あたりの設備稼働時間 | J12: ｈ/日
D13: 年間稼働日数 | J13: 日
D14: 年間稼働時間 | G14: =IF(G12="","",ROUNDDOWN((G12*G13),2)) | J14: ｈ/年
B16: （４）バイオマス燃料
D17: 種類
D18: バイオマス依存率（※） | G18: ='共通１－２_別紙(1)'!H46 -> 0 | J18: ％ | M18: ←別紙４を作成すると自動計算されます
D19: ※算定方法は、別紙２のとおり。 | M19: ※バイオマス依存率60％以上
B21: （５）助成燃料等 （※使用する場合のみ記入）
D22: スタートアップの場合
D23: 使用量 | J23: ｔ/回
D24: 使用頻度 | J24: 回/年
D25: その他
D26: 使用量 | J26: ｔ/回
D27: 使用頻度 | J27: 回/年
B29: （６）発電機
C30: ① | D30: 機器番号/見積明細番号
D31: 製造者名（メーカー名）
D32: 型式名
D33: 発電方式 | M33: ←プルダウンリストから選択してください
D34: 設備の仕様が確認できるURL
D35: １台あたりの定格出力 | J35: kW
D36: 台数 | J36: 台
D37: 定格出力合計 | G37: =IF(G35="","",ROUNDDOWN(G35*G36,2)) | J37: kW
C39: ② | D39: 機器番号/見積明細番号
D40: 製造者名（メーカー名）
D41: 型式名
D42: 発電方式 | M42: ←プルダウンリストから選択してください
D43: 設備の仕様が確認できるURL
D44: １台あたりの定格出力 | J44: kW
D45: 台数 | J45: 台
D46: 定格出力合計 | G46: =IF(G44="","",ROUNDDOWN(G44*G45,2)) | J46: kW
C48: ③ | D48: 機器番号/見積明細番号
...

Sheet 共通１－２_別紙(1)
B1: ２．設備の概要：別紙２（１）
B3: バイオマス依存率計算書（バイオマス発電）
B5: バイオマス燃料 | C5: 種類 | E5: 構成比 | F5: Ａ．バイオマス （燃料）利用量 | G5: Ｂ．バイオマス （燃料）低位発熱量 | H5: バイオマス （燃料）発熱量
E6: ％ | F6: kg/h | G6: =IF(F6="kg/h","MJ/kg","MJ/N㎥") -> MJ/kg | H6: MJ/h | M6: ←利用量の単位は、プルダウンリストから選択してください
C7: 紙くず | D7: 紙類 | E7: =IFERROR(F7/SUM($F$7:$F$19,$F$23:$F$40)*100,"") | H7: =F7*G7 -> 0
D8: 新聞紙 | E8: =IFERROR(F8/SUM($F$7:$F$19,$F$23:$F$40)*100,"") | H8: =F8*G8 -> 0
D9: 紙管 | E9: =IFERROR(F9/SUM($F$7:$F$19,$F$23:$F$40)*100,"") | H9: =F9*G9 -> 0
C10: 木くず | D10: 草・木 | E10: =IFERROR(F10/SUM($F$7:$F$19,$F$23:$F$40)*100,"") | H10: =F10*G10 -> 0
D11: おがくず | E11: =IFERROR(F11/SUM($F$7:$F$19,$F$23:$F$40)*100,"") | H11: =F11*G11 -> 0
D12: 木片 | E12: =IFERROR(F12/SUM($F$7:$F$19,$F$23:$F$40)*100,"") | H12: =F12*G12 -> 0
D13: ベニア・合板・化粧版 | E13: =IFERROR(F13/SUM($F$7:$F$19,$F$23:$F$40)*100,"") | H13: =F13*G13 -> 0
D14: 集成材・ボード | E14: =IFERROR(F14/SUM($F$7:$F$19,$F$23:$F$40)*100,"") | H14: =F14*G14 -> 0
C15: 繊維くず | D15: 木綿 | E15: =IFERROR(F15/SUM($F$7:$F$19,$F$23:$F$40)*100,"") | H15: =F15*G15 -> 0
D16: 羊毛 | E16: =IFERROR(F16/SUM($F$7:$F$19,$F$23:$F$40)*100,"") | H16: =F16*G16 -> 0
C17: その他 | D17: 一般雑芥 | E17: =IFERROR(F17/SUM($F$7:$F$19,$F$23:$F$40)*100,"") | H17: =F17*G17 -> 0
D18: 廃油(動植物系) | E18: =IFERROR(F18/SUM($F$7:$F$19,$F$23:$F$40)*100,"") | H18: =F18*G18 -> 0
D19: その他 | E19: =IFERROR(F19/SUM($F$7:$F$19,$F$23:$F$40)*100,"") | H19: =F19*G19 -> 0
H20: ① | I20: =SUM(H7:J19) -> 0
B21: 非バイオマス燃料 | C21: 種類 | E21: 構成比 | F21: Ｃ．非バイオマス （燃料）利用量 | G21: Ｄ．非バイオマス （燃料）低位発熱量 | H21: 非バイオマス （燃料）発熱量
E22: ％ | F22: =F6 -> kg/h | G22: =G6 -> MJ/kg | H22: MJ/h
C23: 廃プラスチック類 | D23: ポリエチレン（ＰＥ） | E23: =IFERROR(F23/SUM($F$7:$F$19,$F$23:$F$40)*100,"") | H23: =F23*G23 -> 0
D24: ポリプロピレン（ＰＰ） | E24: =IFERROR(F24/SUM($F$7:$F$19,$F$23:$F$40)*100,"") | H24: =F24*G24 -> 0
D25: ポリスチレン（ＰＳ） | E25: =IFERROR(F25/SUM($F$7:$F$19,$F$23:$F$40)*100,"") | H25: =F25*G25 -> 0
D26: 発泡スチロール | E26: =IFERROR(F26/SUM($F$7:$F$19,$F$23:$F$40)*100,"") | H26: =F26*G26 -> 0
D27: ＦＲＰ樹脂 | E27: =IFERROR(F27/SUM($F$7:$F$19,$F$23:$F$40)*100,"") | H27: =F27*G27 -> 0
D28: フェノール樹脂 | E28: =IFERROR(F28/SUM($F$7:$F$19,$F$23:$F$40)*100,"") | H28: =F28*G28 -> 0
D29: 熱可塑性樹脂 | E29: =IFERROR(F29/SUM($F$7:$F$19,$F$23:$F$40)*100,"") | H29: =F29*G29 -> 0
D30: 混合樹脂製品 | E30: =IFERROR(F30/SUM($F$7:$F$19,$F$23:$F$40)*100,"") | H30: =F30*G30 -> 0
D31: ＰＥＴボトル | E31: =IFERROR(F31/SUM($F$7:$F$19,$F$23:$F$40)*100,"") | H31: =F31*G31 -> 0
D32: 皮製品 | E32: =IFERROR(F32/SUM($F$7:$F$19,$F$23:$F$40)*100,"") | H32: =F32*G32 -> 0
C33: ゴムくず | D33: タイヤ | E33: =IFERROR(F33/SUM($F$7:$F$19,$F$23:$F$40)*100,"") | H33: =F33*G33 -> 0
D34: 合成ゴム | E34: =IFERROR(F34/SUM($F$7:$F$19,$F$23:$F$40)*100,"") | H34: =F34*G34 -> 0
C35: 繊維くず | D35: ナイロン布 | E35: =IFERROR(F35/SUM($F$7:$F$19,$F$23:$F$40)*100,"") | H35: =F35*G35 -> 0
D36: アクリル布 | E36: =IFERROR(F36/SUM($F$7:$F$19,$F$23:$F$40)*100,"") | H36: =F36*G36 -> 0
D37: ビニロン布 | E37: =IFERROR(F37/SUM($F$7:$F$19,$F$23:$F$40)*100,"") | H37: =F37*G37 -> 0
D38: ポリエステル布 | E38: =IFERROR(F38/SUM($F$7:$F$19,$F$23:$F$40)*100,"") | H38: =F38*G38 -> 0
C39: その他 | D39: 廃油（石油系） | E39: =IFERROR(F39/SUM($F$7:$F$19,$F$23:$F$40)*100,"") | H39: =F39*G39 -> 0
D40: その他 | E40: =IFERROR(F40/SUM($F$7:$F$19,$F$23:$F$40)*100,"") | H40: =F40*G40 -> 0
H41: ② | I41: =SUM(H23:J40) -> 0
C42: 構成比の合計 | E42: =SUM(E7:E19,E23:E40) -> 0
...

Sheet 共通１－２_別紙(2)
B1: 第４号様式：別紙２（２）（１枚目）
B3: バイオマス依存率計算書（バイオマス燃料製造）
B5: バイオマス燃料 | C5: 種類 | E5: 構成比 | F5: Ａ．バイオマス （原料）利用量 | G5: Ｂ．バイオマス （原料）低位発熱量 | H5: バイオマス （原料）発熱量
E6: ％ | F6: kg/h | G6: =IF(F6="kg/h","MJ/kg","MJ/N㎥") -> MJ/kg | H6: MJ/h | M6: ←利用量の単位は、プルダウンリストから選択してください
C7: 紙くず | D7: 紙類 | E7: =IFERROR(F7/SUM($F$7:$F$19,$F$23:$F$40)*100,"") | H7: =F7*G7 -> 0
D8: 新聞紙 | E8: =IFERROR(F8/SUM($F$7:$F$19,$F$23:$F$40)*100,"") | H8: =F8*G8 -> 0
D9: 紙管 | E9: =IFERROR(F9/SUM($F$7:$F$19,$F$23:$F$40)*100,"") | H9: =F9*G9 -> 0
C10: 木くず | D10: 草・木 | E10: =IFERROR(F10/SUM($F$7:$F$19,$F$23:$F$40)*100,"") | H10: =F10*G10 -> 0
D11: おがくず | E11: =IFERROR(F11/SUM($F$7:$F$19,$F$23:$F$40)*100,"") | H11: =F11*G11 -> 0
D12: 木片 | E12: =IFERROR(F12/SUM($F$7:$F$19,$F$23:$F$40)*100,"") | H12: =F12*G12 -> 0
D13: ベニア・合板・化粧版 | E13: =IFERROR(F13/SUM($F$7:$F$19,$F$23:$F$40)*100,"") | H13: =F13*G13 -> 0
D14: 集成材・ボード | E14: =IFERROR(F14/SUM($F$7:$F$19,$F$23:$F$40)*100,"") | H14: =F14*G14 -> 0
C15: 繊維くず | D15: 木綿 | E15: =IFERROR(F15/SUM($F$7:$F$19,$F$23:$F$40)*100,"") | H15: =F15*G15 -> 0
D16: 羊毛 | E16: =IFERROR(F16/SUM($F$7:$F$19,$F$23:$F$40)*100,"") | H16: =F16*G16 -> 0
C17: その他 | D17: 一般雑芥 | E17: =IFERROR(F17/SUM($F$7:$F$19,$F$23:$F$40)*100,"") | H17: =F17*G17 -> 0
D18: 廃油(動植物系) | E18: =IFERROR(F18/SUM($F$7:$F$19,$F$23:$F$40)*100,"") | H18: =F18*G18 -> 0
D19: その他 | E19: =IFERROR(F19/SUM($F$7:$F$19,$F$23:$F$40)*100,"") | H19: =F19*G19 -> 0
H20: ① | I20: =SUM(H7:J19) -> 0
B21: 非バイオマス燃料 | C21: 種類 | E21: 構成比 | F21: Ｃ．非バイオマス （原料）利用量 | G21: Ｄ．非バイオマス （原料）低位発熱量 | H21: 非バイオマス （原料）発熱量
E22: ％ | F22: =F6 -> kg/h | G22: =G6 -> MJ/kg | H22: MJ/h
C23: 廃プラスチック類 | D23: ポリエチレン（ＰＥ） | E23: =IFERROR(F23/SUM($F$7:$F$19,$F$23:$F$40)*100,"") | H23: =F23*G23 -> 0
D24: ポリプロピレン（ＰＰ） | E24: =IFERROR(F24/SUM($F$7:$F$19,$F$23:$F$40)*100,"") | H24: =F24*G24 -> 0
D25: ポリスチレン（ＰＳ） | E25: =IFERROR(F25/SUM($F$7:$F$19,$F$23:$F$40)*100,"") | H25: =F25*G25 -> 0
D26: 発泡スチロール | E26: =IFERROR(F26/SUM($F$7:$F$19,$F$23:$F$40)*100,"") | H26: =F26*G26 -> 0
D27: ＦＲＰ樹脂 | E27: =IFERROR(F27/SUM($F$7:$F$19,$F$23:$F$40)*100,"") | H27: =F27*G27 -> 0
D28: フェノール樹脂 | E28: =IFERROR(F28/SUM($F$7:$F$19,$F$23:$F$40)*100,"") | H28: =F28*G28 -> 0
D29: 熱可塑性樹脂 | E29: =IFERROR(F29/SUM($F$7:$F$19,$F$23:$F$40)*100,"") | H29: =F29*G29 -> 0
D30: 混合樹脂製品 | E30: =IFERROR(F30/SUM($F$7:$F$19,$F$23:$F$40)*100,"") | H30: =F30*G30 -> 0
D31: ＰＥＴボトル | E31: =IFERROR(F31/SUM($F$7:$F$19,$F$23:$F$40)*100,"") | H31: =F31*G31 -> 0
D32: 皮製品 | E32: =IFERROR(F32/SUM($F$7:$F$19,$F$23:$F$40)*100,"") | H32: =F32*G32 -> 0
C33: ゴムくず | D33: タイヤ | E33: =IFERROR(F33/SUM($F$7:$F$19,$F$23:$F$40)*100,"") | H33: =F33*G33 -> 0
D34: 合成ゴム | E34: =IFERROR(F34/SUM($F$7:$F$19,$F$23:$F$40)*100,"") | H34: =F34*G34 -> 0
C35: 繊維くず | D35: ナイロン布 | E35: =IFERROR(F35/SUM($F$7:$F$19,$F$23:$F$40)*100,"") | H35: =F35*G35 -> 0
D36: アクリル布 | E36: =IFERROR(F36/SUM($F$7:$F$19,$F$23:$F$40)*100,"") | H36: =F36*G36 -> 0
D37: ビニロン布 | E37: =IFERROR(F37/SUM($F$7:$F$19,$F$23:$F$40)*100,"") | H37: =F37*G37 -> 0
D38: ポリエステル布 | E38: =IFERROR(F38/SUM($F$7:$F$19,$F$23:$F$40)*100,"") | H38: =F38*G38 -> 0
C39: その他 | D39: 廃油（石油系） | E39: =IFERROR(F39/SUM($F$7:$F$19,$F$23:$F$40)*100,"") | H39: =F39*G39 -> 0
D40: その他 | E40: =IFERROR(F40/SUM($F$7:$F$19,$F$23:$F$40)*100,"") | H40: =F40*G40 -> 0
H41: ② | I41: =SUM(H23:J40) -> 0
C42: 構成比の合計 | E42: =SUM(E7:E19,E23:E40) -> 0
...

Sheet 共通１－３_導入効果
B1: ３．導入効果 | BB1: ３．導入効果
D3: ・需要先の年間想定電力消費量(A) | G3: =IF(E15="","",(J18+J24+J30+J36+J42+J48+J54+J60+J66+J72)) | I3: kWh/年 | BD3: ・需要先の年間想定電力消費量(A) | BG3: =IF(BE15="","",(BJ18+BJ24+BJ30+BJ36+BJ42+BJ48+BJ54+BJ60+BJ66+BJ72)) -> 192000 | BI3: kWh/年
D5: ・年間想定発電電力量(B)（事業合計） | G5: =IF(E76="","",SUM(J79,J85,J91,J97,J103)) | I5: kWh/年 | BD5: ・年間想定発電電力量(B)（事業合計） | BG5: =IF(BE76="","",SUM(BJ79,BJ85,BJ91,BJ97,BJ103)) -> 31200 | BI5: kWh/年
D7: ・差 （A－B) | G7: =IF(E15="","",G3-G5) | I7: kWh/年 | BD7: ・差 （A－B) | BG7: =IF(BE15="","",BG3-BG5) -> 160800 | BI7: kWh/年
B9: 「需要先の年間想定電力消費量」に対する「年間想定発電電力量」の比率 | BB9: 「需要先の年間想定電力消費量」に対する「年間想定発電電力量」の比率
G10: =IF(G5="","",ROUND(G5/G3*100,2)) | H10: % | BG10: =IF(BG5="","",ROUND(BG5/BG3*100,2)) -> 16.25 | BH10: %
F11: =IF(G10="","",IF(G10>=100,"申請要件を満たさないため申請不可"," ")) | BF11: =IF(BG10="","",IF(BG10>=100,"申請要件を満たさないため申請不可"," "))
B13: （１）需要先ごとの消費電力量（月別、年間の消費電力量） | J13: （kWh） | BB13: （１）需要先ごとの消費電力量（月別、年間の消費電力量） | BJ13: （kWh）
C14: 施設の名称 | E14: ４月 | F14: ５月 | G14: ６月 | H14: ７月 | I14: ８月 | J14: ９月 | BE14: ４月 | BF14: ５月 | BG14: ６月 | BH14: ７月 | BI14: ８月 | BJ14: ９月
C15: =IF('共通１ー１（基本情報（１）～（11））'!C122="","",'共通１ー１（基本情報（１）～（11））'!C122) | BC15: =IF('[6]第４号（太陽光,蓄電池）'!BE49="","",'[6]第４号（太陽光,蓄電池）'!BE49) -> ■■株式会社 ○○営業所 | BE15: 7000 | BF15: 8000 | BG15: 9000 | BH15: 10000 | BI15: 11000 | BJ15: 10000
E16: １０月 | F16: １１月 | G16: １２月 | H16: １月 | I16: ２月 | J16: ３月 | BE16: １０月 | BF16: １１月 | BG16: １２月 | BH16: １月 | BI16: ２月 | BJ16: ３月
BE17: 9000 | BF17: 8000 | BG17: 7000 | BH17: 6000 | BI17: 5000 | BJ17: 6000
H18: 消費電力量小計(kWh) | J18: =IF(E15="","0",SUM(E15:J15,E17:J17)) -> 0 | BH18: 消費電力量小計(kWh) | BJ18: =IF(BE15="","0",SUM(BE15:BJ15,BE17:BJ17)) -> 96000
C20: 施設の名称 | E20: ４月 | F20: ５月 | G20: ６月 | H20: ７月 | I20: ８月 | J20: ９月 | BE20: ４月 | BF20: ５月 | BG20: ６月 | BH20: ７月 | BI20: ８月 | BJ20: ９月
C21: =IF('共通１ー１（基本情報（１）～（11））'!C131="","",'共通１ー１（基本情報（１）～（11））'!C131) | BC21: =IF('[6]第４号（太陽光,蓄電池）'!BE55="","",'[6]第４号（太陽光,蓄電池）'!BE55) -> ■■株式会社 本社ビル | BE21: 7000 | BF21: 8000 | BG21: 9000 | BH21: 10000 | BI21: 11000 | BJ21: 10000
E22: １０月 | F22: １１月 | G22: １２月 | H22: １月 | I22: ２月 | J22: ３月 | BE22: １０月 | BF22: １１月 | BG22: １２月 | BH22: １月 | BI22: ２月 | BJ22: ３月
BE23: 9000 | BF23: 8000 | BG23: 7000 | BH23: 6000 | BI23: 5000 | BJ23: 6000
H24: 消費電力量小計(kWh) | J24: =IF(E21="","0",SUM(E21:J21,E23:J23)) -> 0 | BH24: 消費電力量小計(kWh) | BJ24: =IF(BE21="","0",SUM(BE21:BJ21,BE23:BJ23)) -> 96000
C26: 施設の名称 | E26: ４月 | F26: ５月 | G26: ６月 | H26: ７月 | I26: ８月 | J26: ９月 | BE26: ４月 | BF26: ５月 | BG26: ６月 | BH26: ７月 | BI26: ８月 | BJ26: ９月
C27: =IF('共通１ー１（基本情報（１）～（11））'!C140="","",'共通１ー１（基本情報（１）～（11））'!C140) | BC27: =IF('[6]第４号（太陽光,蓄電池）'!BE61="","",'[6]第４号（太陽光,蓄電池）'!BE61)
E28: １０月 | F28: １１月 | G28: １２月 | H28: １月 | I28: ２月 | J28: ３月 | BE28: １０月 | BF28: １１月 | BG28: １２月 | BH28: １月 | BI28: ２月 | BJ28: ３月
H30: 消費電力量小計(kWh) | J30: =IF(E27="","0",SUM(E27:J27,E29:J29)) -> 0 | BH30: 消費電力量小計(kWh) | BJ30: =IF(BE27="","0",SUM(BE27:BJ27,BE29:BJ29)) -> 0
C32: 施設の名称 | E32: ４月 | F32: ５月 | G32: ６月 | H32: ７月 | I32: ８月 | J32: ９月 | BE32: ４月 | BF32: ５月 | BG32: ６月 | BH32: ７月 | BI32: ８月 | BJ32: ９月
C33: =IF('共通１ー１（基本情報（１）～（11））'!C149="","",'共通１ー１（基本情報（１）～（11））'!C149) | BC33: =IF('[6]第４号（太陽光,蓄電池）'!BE67="","",'[6]第４号（太陽光,蓄電池）'!BE67)
E34: １０月 | F34: １１月 | G34: １２月 | H34: １月 | I34: ２月 | J34: ３月 | BE34: １０月 | BF34: １１月 | BG34: １２月 | BH34: １月 | BI34: ２月 | BJ34: ３月
H36: 消費電力量小計(kWh) | J36: =IF(E33="","0",SUM(E33:J33,E35:J35)) -> 0 | BH36: 消費電力量小計(kWh) | BJ36: =IF(BE33="","0",SUM(BE33:BJ33,BE35:BJ35)) -> 0
C38: 施設の名称 | E38: ４月 | F38: ５月 | G38: ６月 | H38: ７月 | I38: ８月 | J38: ９月 | BE38: ４月 | BF38: ５月 | BG38: ６月 | BH38: ７月 | BI38: ８月 | BJ38: ９月
C39: =IF('共通１ー１（基本情報（１）～（11））'!C158="","",'共通１ー１（基本情報（１）～（11））'!C158) | BC39: =IF('[6]第４号（太陽光,蓄電池）'!BE73="","",'[6]第４号（太陽光,蓄電池）'!BE73)
E40: １０月 | F40: １１月 | G40: １２月 | H40: １月 | I40: ２月 | J40: ３月 | BE40: １０月 | BF40: １１月 | BG40: １２月 | BH40: １月 | BI40: ２月 | BJ40: ３月
H42: 消費電力量小計(kWh) | J42: =IF(E39="","0",SUM(E39:J39,E41:J41)) -> 0 | BH42: 消費電力量小計(kWh) | BJ42: =IF(BE39="","0",SUM(BE39:BJ39,BE41:BJ41)) -> 0
C44: 施設の名称 | E44: ４月 | F44: ５月 | G44: ６月 | H44: ７月 | I44: ８月 | J44: ９月 | BE44: ４月 | BF44: ５月 | BG44: ６月 | BH44: ７月 | BI44: ８月 | BJ44: ９月
C45: =IF('共通１ー１（基本情報（１）～（11））'!C167="","",'共通１ー１（基本情報（１）～（11））'!C167) | BC45: =IF('[6]第４号（太陽光,蓄電池）'!BE79="","",'[6]第４号（太陽光,蓄電池）'!BE79)
E46: １０月 | F46: １１月 | G46: １２月 | H46: １月 | I46: ２月 | J46: ３月 | BE46: １０月 | BF46: １１月 | BG46: １２月 | BH46: １月 | BI46: ２月 | BJ46: ３月
H48: 消費電力量小計(kWh) | J48: =IF(E45="","0",SUM(E45:J45,E47:J47)) -> 0 | BH48: 消費電力量小計(kWh) | BJ48: =IF(BE45="","0",SUM(BE45:BJ45,BE47:BJ47)) -> 0
C50: 施設の名称 | E50: ４月 | F50: ５月 | G50: ６月 | H50: ７月 | I50: ８月 | J50: ９月 | BE50: ４月 | BF50: ５月 | BG50: ６月 | BH50: ７月 | BI50: ８月 | BJ50: ９月
C51: =IF('共通１ー１（基本情報（１）～（11））'!C176="","",'共通１ー１（基本情報（１）～（11））'!C176) | BC51: =IF('[6]第４号（太陽光,蓄電池）'!BE85="","",'[6]第４号（太陽光,蓄電池）'!BE85)
E52: １０月 | F52: １１月 | G52: １２月 | H52: １月 | I52: ２月 | J52: ３月 | BE52: １０月 | BF52: １１月 | BG52: １２月 | BH52: １月 | BI52: ２月 | BJ52: ３月
H54: 消費電力量小計(kWh) | J54: =IF(E51="","0",SUM(E51:J51,E53:J53)) -> 0 | BH54: 消費電力量小計(kWh) | BJ54: =IF(BE51="","0",SUM(BE51:BJ51,BE53:BJ53)) -> 0
C56: 施設の名称 | E56: ４月 | F56: ５月 | G56: ６月 | H56: ７月 | I56: ８月 | J56: ９月 | BE56: ４月 | BF56: ５月 | BG56: ６月 | BH56: ７月 | BI56: ８月 | BJ56: ９月
C57: =IF('共通１ー１（基本情報（１）～（11））'!C185="","",'共通１ー１（基本情報（１）～（11））'!C185) | BC57: =IF('[6]第４号（太陽光,蓄電池）'!BE90="","",'[6]第４号（太陽光,蓄電池）'!BE90)
...

Sheet 共通１－４（環境価値）
B1: 4．環境価値の利用 | BB1: ７．環境価値の利用
B2: （１）－１．再エネ電力証書利用場所及び年間電力消費量 | BB2: （１）－１．再エネ電力証書利用場所及び年間電力消費量
B3: 名称 | BB3: 名称 | BE3: ○○株式会社
C4: 住所 | BC4: 住所 | BE4: 東京都新宿区西新宿○-○○-○○
B5: 年間電力消費量 | E5: ４月 | F5: ５月 | G5: ６月 | H5: ７月 | I5: ８月 | J5: ９月 | BB5: 年間電力消費量 | BE5: ４月 | BF5: ５月 | BG5: ６月 | BH5: ７月 | BI5: ８月 | BJ5: ９月
BE6: 10000 | BF6: 20000 | BG6: 30000 | BH6: 40000 | BI6: 50000 | BJ6: 60000
E7: １０月 | F7: １１月 | G7: １２月 | H7: １月 | I7: ２月 | J7: ３月 | BE7: １０月 | BF7: １１月 | BG7: １２月 | BH7: １月 | BI7: ２月 | BJ7: ３月
BE8: 60000 | BF8: 50000 | BG8: 40000 | BH8: 30000 | BI8: 20000 | BJ8: 10000
G9: 年間電力消費量小計(kWh) | J9: =IF(E6="",0,SUM(E6:J6,E8:J8)) -> 0 | BG9: 年間電力消費量小計(kWh) | BJ9: =IF(BE6="","0",SUM(BE6:BJ6,BE8:BJ8)) -> 420000
B11: （１）－２．再エネ電力証書利用場所及び年間電力消費量 | BB11: （１）－２．再エネ電力証書利用場所及び年間電力消費量
B12: 名称 | BB12: 名称
C13: 住所 | BC13: 住所
B14: 年間電力消費量 | E14: ４月 | F14: ５月 | G14: ６月 | H14: ７月 | I14: ８月 | J14: ９月 | BB14: 年間電力消費量 | BE14: ４月 | BF14: ５月 | BG14: ６月 | BH14: ７月 | BI14: ８月 | BJ14: ９月
E16: １０月 | F16: １１月 | G16: １２月 | H16: １月 | I16: ２月 | J16: ３月 | BE16: １０月 | BF16: １１月 | BG16: １２月 | BH16: １月 | BI16: ２月 | BJ16: ３月
G18: 年間電力消費量小計(kWh) | J18: =IF(E15="",0,SUM(E15:J15,E17:J17)) -> 0 | BG18: 年間電力消費量小計(kWh) | BJ18: =IF(BE15="","0",SUM(BE15:BJ15,BE17:BJ17)) -> 0
B20: （１）－３．再エネ電力証書利用場所及び年間電力消費量 | BB20: （１）－３．再エネ電力証書利用場所及び年間電力消費量
B21: 名称 | BB21: 名称
C22: 住所 | BC22: 住所
B23: 年間電力消費量 | E23: ４月 | F23: ５月 | G23: ６月 | H23: ７月 | I23: ８月 | J23: ９月 | BB23: 年間電力消費量 | BE23: ４月 | BF23: ５月 | BG23: ６月 | BH23: ７月 | BI23: ８月 | BJ23: ９月
E25: １０月 | F25: １１月 | G25: １２月 | H25: １月 | I25: ２月 | J25: ３月 | BE25: １０月 | BF25: １１月 | BG25: １２月 | BH25: １月 | BI25: ２月 | BJ25: ３月
G27: 年間電力消費量小計(kWh) | J27: =IF(E24="",0,SUM(E24:J24,E26:J26)) -> 0 | BG27: 年間電力消費量小計(kWh) | BJ27: =IF(BE24="","0",SUM(BE24:BJ24,BE26:BJ26)) -> 0
B29: （１）－４．再エネ電力証書利用場所及び年間電力消費量 | BB29: （１）－４．再エネ電力証書利用場所及び年間電力消費量
B30: 名称 | BB30: 名称
C31: 住所 | BC31: 住所
B32: 年間電力消費量 | E32: ４月 | F32: ５月 | G32: ６月 | H32: ７月 | I32: ８月 | J32: ９月 | BB32: 年間電力消費量 | BE32: ４月 | BF32: ５月 | BG32: ６月 | BH32: ７月 | BI32: ８月 | BJ32: ９月
E34: １０月 | F34: １１月 | G34: １２月 | H34: １月 | I34: ２月 | J34: ３月 | BE34: １０月 | BF34: １１月 | BG34: １２月 | BH34: １月 | BI34: ２月 | BJ34: ３月
G36: 年間電力消費量小計(kWh) | J36: =IF(E33="",0,SUM(E33:J33,E35:J35)) -> 0 | BG36: 年間電力消費量小計(kWh) | BJ36: =IF(BE33="","0",SUM(BE33:BJ33,BE35:BJ35)) -> 0
B38: （１）－５．再エネ電力証書利用場所及び年間電力消費量 | BB38: （１）－５．再エネ電力証書利用場所及び年間電力消費量
B39: 名称 | BB39: 名称
C40: 住所 | BC40: 住所
B41: 年間電力消費量 | E41: ４月 | F41: ５月 | G41: ６月 | H41: ７月 | I41: ８月 | J41: ９月 | BB41: 年間電力消費量 | BE41: ４月 | BF41: ５月 | BG41: ６月 | BH41: ７月 | BI41: ８月 | BJ41: ９月
E43: １０月 | F43: １１月 | G43: １２月 | H43: １月 | I43: ２月 | J43: ３月 | BE43: １０月 | BF43: １１月 | BG43: １２月 | BH43: １月 | BI43: ２月 | BJ43: ３月
G45: 年間電力消費量小計(kWh) | J45: =IF(E42="",0,SUM(E42:J42,E44:J44)) -> 0 | BG45: 年間電力消費量小計(kWh) | BJ45: =IF(BE42="","0",SUM(BE42:BJ42,BE44:BJ44)) -> 0
B47: （１）－６．再エネ電力証書利用場所及び年間電力消費量 | BB47: （１）－６．再エネ電力証書利用場所及び年間電力消費量
B48: 名称 | BB48: 名称
C49: 住所 | BC49: 住所
B50: 年間電力消費量 | E50: ４月 | F50: ５月 | G50: ６月 | H50: ７月 | I50: ８月 | J50: ９月 | BB50: 年間電力消費量 | BE50: ４月 | BF50: ５月 | BG50: ６月 | BH50: ７月 | BI50: ８月 | BJ50: ９月
E52: １０月 | F52: １１月 | G52: １２月 | H52: １月 | I52: ２月 | J52: ３月 | BE52: １０月 | BF52: １１月 | BG52: １２月 | BH52: １月 | BI52: ２月 | BJ52: ３月
G54: 年間電力消費量小計(kWh) | J54: =IF(E51="",0,SUM(E51:J51,E53:J53)) -> 0 | BG54: 年間電力消費量小計(kWh) | BJ54: =IF(BE51="","0",SUM(BE51:BJ51,BE53:BJ53)) -> 0
B56: （１）－７．再エネ電力証書利用場所及び年間電力消費量 | BB56: （１）－７．再エネ電力証書利用場所及び年間電力消費量
...

Sheet 共通１－４（費用対効果）
B1: ４．実施手法の検討及び費用対効果の検証資料
B2: 比較項目 | C2: 施設名１：‐kW | D2: 施設名２：‐kW | E2: 備考
B3: 設置場所 イメージ
B4: 年間発電量 （kWh/年）
B5: １kwあたりの効率 （kWh/年・kW）
B6: 予想年間電気料金削減額（円/年）
B7: 国および都の助成金控除後のイニシャルコスト （円）
B8: 投資回収年数 （年）
B9: 評価

Sheet システム系統図（光）最新
B1: システム系統図
B2: 【太陽光発電の場合】
I4: 見積明細番号１ | S4: 見積明細番号２ | AA4: 助成対象設備
AA7: 助成対象外設備
AA10: 共通設備の 利用範囲①
K12: 接続箱 | M12: 見積明細番号５ | U12: 接続箱 | W12: 見積明細番号５
AA13: 共通設備の 利用範囲②
M15: 見積明細番号３ | W15: 見積明細番号４
J16: パワーコンディショナ （5.0kW） | T16: ハイブリッド パワーコンディショナ （5.0kW） | Z16: 見積明細番号10
Z17: 蓄電池 (10kWh)
AB21: 見積明細番号11
X22: データ 計測装置 | AB22: 表示装置
D24: 受変電設備 | X24: 見積明細番号７
L25: 見積明細番号〇 | Q25: 分電盤
J26: 零相電圧検出器(ZPD) | Z26: 負荷
E29: 逆電力継電器(RPR) | J29: 地絡過電圧継電器(OVGR)
F32: 見積明細番号〇 | J32: 見積明細番号〇

Sheet 共通様式１別紙１
B1: 共通様式別紙１
B3: バイオマス依存率計算書（バイオマス発電）
B5: バイオマス燃料 | C5: 種類 | E5: 構成比 | F5: Ａ．バイオマス （燃料）利用量 | G5: Ｂ．バイオマス （燃料）低位発熱量 | H5: バイオマス （燃料）発熱量
E6: ％ | F6: kg/h | G6: =IF(F6="kg/h","MJ/kg","MJ/N㎥") -> MJ/kg | H6: MJ/h | M6: ←利用量の単位は、プルダウンリストから選択してください
C7: 紙くず | D7: 紙類 | E7: =IFERROR(F7/SUM($F$7:$F$19,$F$24:$F$41)*100,"") | H7: =F7*G7 -> 0
D8: 新聞紙 | E8: =IFERROR(F8/SUM($F$7:$F$19,$F$24:$F$41)*100,"") | H8: =F8*G8 -> 0
D9: 紙管 | E9: =IFERROR(F9/SUM($F$7:$F$19,$F$24:$F$41)*100,"") | H9: =F9*G9 -> 0
C10: 木くず | D10: 草・木 | E10: =IFERROR(F10/SUM($F$7:$F$19,$F$24:$F$41)*100,"") | H10: =F10*G10 -> 0
D11: おがくず | E11: =IFERROR(F11/SUM($F$7:$F$19,$F$24:$F$41)*100,"") | H11: =F11*G11 -> 0
D12: 木片 | E12: =IFERROR(F12/SUM($F$7:$F$19,$F$24:$F$41)*100,"") | H12: =F12*G12 -> 0
D13: ベニア・合板・化粧版 | E13: =IFERROR(F13/SUM($F$7:$F$19,$F$24:$F$41)*100,"") | H13: =F13*G13 -> 0
D14: 集成材・ボード | E14: =IFERROR(F14/SUM($F$7:$F$19,$F$24:$F$41)*100,"") | H14: =F14*G14 -> 0
C15: 繊維くず | D15: 木綿 | E15: =IFERROR(F15/SUM($F$7:$F$19,$F$24:$F$41)*100,"") | H15: =F15*G15 -> 0
D16: 羊毛 | E16: =IFERROR(F16/SUM($F$7:$F$19,$F$24:$F$41)*100,"") | H16: =F16*G16 -> 0
C17: その他 | D17: 一般雑芥 | E17: =IFERROR(F17/SUM($F$7:$F$19,$F$24:$F$41)*100,"") | H17: =F17*G17 -> 0
D18: 廃油(動植物系) | E18: =IFERROR(F18/SUM($F$7:$F$19,$F$24:$F$41)*100,"") | H18: =F18*G18 -> 0
D19: その他 | E19: =IFERROR(F19/SUM($F$7:$F$19,$F$24:$F$41)*100,"") | H19: =F19*G19 -> 0
H20: ① | I20: =SUM(H7:J19) -> 0
B22: 非バイオマス燃料 | C22: 種類 | E22: 構成比 | F22: Ｃ．非バイオマス （燃料）利用量 | G22: Ｄ．非バイオマス （燃料）低位発熱量 | H22: 非バイオマス （燃料）発熱量
E23: ％ | F23: =F6 -> kg/h | G23: =G6 -> MJ/kg | H23: MJ/h
C24: 廃プラスチック類 | D24: ポリエチレン（ＰＥ） | E24: =IFERROR(F24/SUM($F$7:$F$19,$F$24:$F$41)*100,"") | H24: =F24*G24 -> 0
D25: ポリプロピレン（ＰＰ） | E25: =IFERROR(F25/SUM($F$7:$F$19,$F$24:$F$41)*100,"") | H25: =F25*G25 -> 0
D26: ポリスチレン（ＰＳ） | E26: =IFERROR(F26/SUM($F$7:$F$19,$F$24:$F$41)*100,"") | H26: =F26*G26 -> 0
D27: 発泡スチロール | E27: =IFERROR(F27/SUM($F$7:$F$19,$F$24:$F$41)*100,"") | H27: =F27*G27 -> 0
D28: ＦＲＰ樹脂 | E28: =IFERROR(F28/SUM($F$7:$F$19,$F$24:$F$41)*100,"") | H28: =F28*G28 -> 0
D29: フェノール樹脂 | E29: =IFERROR(F29/SUM($F$7:$F$19,$F$24:$F$41)*100,"") | H29: =F29*G29 -> 0
D30: 熱可塑性樹脂 | E30: =IFERROR(F30/SUM($F$7:$F$19,$F$24:$F$41)*100,"") | H30: =F30*G30 -> 0
D31: 混合樹脂製品 | E31: =IFERROR(F31/SUM($F$7:$F$19,$F$24:$F$41)*100,"") | H31: =F31*G31 -> 0
D32: ＰＥＴボトル | E32: =IFERROR(F32/SUM($F$7:$F$19,$F$24:$F$41)*100,"") | H32: =F32*G32 -> 0
D33: 皮製品 | E33: =IFERROR(F33/SUM($F$7:$F$19,$F$24:$F$41)*100,"") | H33: =F33*G33 -> 0
C34: ゴムくず | D34: タイヤ | E34: =IFERROR(F34/SUM($F$7:$F$19,$F$24:$F$41)*100,"") | H34: =F34*G34 -> 0
D35: 合成ゴム | E35: =IFERROR(F35/SUM($F$7:$F$19,$F$24:$F$41)*100,"") | H35: =F35*G35 -> 0
C36: 繊維くず | D36: ナイロン布 | E36: =IFERROR(F36/SUM($F$7:$F$19,$F$24:$F$41)*100,"") | H36: =F36*G36 -> 0
D37: アクリル布 | E37: =IFERROR(F37/SUM($F$7:$F$19,$F$24:$F$41)*100,"") | H37: =F37*G37 -> 0
D38: ビニロン布 | E38: =IFERROR(F38/SUM($F$7:$F$19,$F$24:$F$41)*100,"") | H38: =F38*G38 -> 0
D39: ポリエステル布 | E39: =IFERROR(F39/SUM($F$7:$F$19,$F$24:$F$41)*100,"") | H39: =F39*G39 -> 0
C40: その他 | D40: 廃油（石油系） | E40: =IFERROR(F40/SUM($F$7:$F$19,$F$24:$F$41)*100,"") | H40: =F40*G40 -> 0
D41: その他 | E41: =IFERROR(F41/SUM($F$7:$F$19,$F$24:$F$41)*100,"") | H41: =F41*G41 -> 0
H42: ② | I42: =SUM(H24:J41) -> 0
C43: 構成比の合計 | E43: =SUM(E7:E19,E24:E41) -> 0
...

Sheet 共通様式１別紙１（燃料製造）
B1: 共通様式別紙１
B3: バイオマス依存率計算書（バイオマス燃料製造）
B5: バイオマス燃料 | C5: 種類 | E5: 構成比 | F5: Ａ．バイオマス （原料）利用量 | G5: Ｂ．バイオマス （原料）低位発熱量 | H5: バイオマス （原料）発熱量
E6: ％ | F6: kg/h | G6: =IF(F6="kg/h","MJ/kg","MJ/N㎥") -> MJ/kg | H6: MJ/h | M6: ←利用量の単位は、プルダウンリストから選択してください
C7: 紙くず | D7: 紙類 | E7: =IFERROR(F7/SUM($F$7:$F$19,$F$24:$F$41)*100,"") | H7: =F7*G7 -> 0
D8: 新聞紙 | E8: =IFERROR(F8/SUM($F$7:$F$19,$F$24:$F$41)*100,"") | H8: =F8*G8 -> 0
D9: 紙管 | E9: =IFERROR(F9/SUM($F$7:$F$19,$F$24:$F$41)*100,"") | H9: =F9*G9 -> 0
C10: 木くず | D10: 草・木 | E10: =IFERROR(F10/SUM($F$7:$F$19,$F$24:$F$41)*100,"") | H10: =F10*G10 -> 0
D11: おがくず | E11: =IFERROR(F11/SUM($F$7:$F$19,$F$24:$F$41)*100,"") | H11: =F11*G11 -> 0
D12: 木片 | E12: =IFERROR(F12/SUM($F$7:$F$19,$F$24:$F$41)*100,"") | H12: =F12*G12 -> 0
D13: ベニア・合板・化粧版 | E13: =IFERROR(F13/SUM($F$7:$F$19,$F$24:$F$41)*100,"") | H13: =F13*G13 -> 0
D14: 集成材・ボード | E14: =IFERROR(F14/SUM($F$7:$F$19,$F$24:$F$41)*100,"") | H14: =F14*G14 -> 0
C15: 繊維くず | D15: 木綿 | E15: =IFERROR(F15/SUM($F$7:$F$19,$F$24:$F$41)*100,"") | H15: =F15*G15 -> 0
D16: 羊毛 | E16: =IFERROR(F16/SUM($F$7:$F$19,$F$24:$F$41)*100,"") | H16: =F16*G16 -> 0
C17: その他 | D17: 一般雑芥 | E17: =IFERROR(F17/SUM($F$7:$F$19,$F$24:$F$41)*100,"") | H17: =F17*G17 -> 0
D18: 廃油(動植物系) | E18: =IFERROR(F18/SUM($F$7:$F$19,$F$24:$F$41)*100,"") | H18: =F18*G18 -> 0
D19: その他 | E19: =IFERROR(F19/SUM($F$7:$F$19,$F$24:$F$41)*100,"") | H19: =F19*G19 -> 0
H20: ① | I20: =SUM(H7:J19) -> 0
B22: 非バイオマス燃料 | C22: 種類 | E22: 構成比 | F22: Ｃ．非バイオマス （原料）利用量 | G22: Ｄ．非バイオマス （原料）低位発熱量 | H22: 非バイオマス （原料）発熱量
E23: ％ | F23: =F6 -> kg/h | G23: =G6 -> MJ/kg | H23: MJ/h
C24: 廃プラスチック類 | D24: ポリエチレン（ＰＥ） | E24: =IFERROR(F24/SUM($F$7:$F$19,$F$24:$F$41)*100,"") | H24: =F24*G24 -> 0
D25: ポリプロピレン（ＰＰ） | E25: =IFERROR(F25/SUM($F$7:$F$19,$F$24:$F$41)*100,"") | H25: =F25*G25 -> 0
D26: ポリスチレン（ＰＳ） | E26: =IFERROR(F26/SUM($F$7:$F$19,$F$24:$F$41)*100,"") | H26: =F26*G26 -> 0
D27: 発泡スチロール | E27: =IFERROR(F27/SUM($F$7:$F$19,$F$24:$F$41)*100,"") | H27: =F27*G27 -> 0
D28: ＦＲＰ樹脂 | E28: =IFERROR(F28/SUM($F$7:$F$19,$F$24:$F$41)*100,"") | H28: =F28*G28 -> 0
D29: フェノール樹脂 | E29: =IFERROR(F29/SUM($F$7:$F$19,$F$24:$F$41)*100,"") | H29: =F29*G29 -> 0
D30: 熱可塑性樹脂 | E30: =IFERROR(F30/SUM($F$7:$F$19,$F$24:$F$41)*100,"") | H30: =F30*G30 -> 0
D31: 混合樹脂製品 | E31: =IFERROR(F31/SUM($F$7:$F$19,$F$24:$F$41)*100,"") | H31: =F31*G31 -> 0
D32: ＰＥＴボトル | E32: =IFERROR(F32/SUM($F$7:$F$19,$F$24:$F$41)*100,"") | H32: =F32*G32 -> 0
D33: 皮製品 | E33: =IFERROR(F33/SUM($F$7:$F$19,$F$24:$F$41)*100,"") | H33: =F33*G33 -> 0
C34: ゴムくず | D34: タイヤ | E34: =IFERROR(F34/SUM($F$7:$F$19,$F$24:$F$41)*100,"") | H34: =F34*G34 -> 0
D35: 合成ゴム | E35: =IFERROR(F35/SUM($F$7:$F$19,$F$24:$F$41)*100,"") | H35: =F35*G35 -> 0
C36: 繊維くず | D36: ナイロン布 | E36: =IFERROR(F36/SUM($F$7:$F$19,$F$24:$F$41)*100,"") | H36: =F36*G36 -> 0
D37: アクリル布 | E37: =IFERROR(F37/SUM($F$7:$F$19,$F$24:$F$41)*100,"") | H37: =F37*G37 -> 0
D38: ビニロン布 | E38: =IFERROR(F38/SUM($F$7:$F$19,$F$24:$F$41)*100,"") | H38: =F38*G38 -> 0
D39: ポリエステル布 | E39: =IFERROR(F39/SUM($F$7:$F$19,$F$24:$F$41)*100,"") | H39: =F39*G39 -> 0
C40: その他 | D40: 廃油（石油系） | E40: =IFERROR(F40/SUM($F$7:$F$19,$F$24:$F$41)*100,"") | H40: =F40*G40 -> 0
D41: その他 | E41: =IFERROR(F41/SUM($F$7:$F$19,$F$24:$F$41)*100,"") | H41: =F41*G41 -> 0
H42: ② | I42: =SUM(H24:J41) -> 0
C43: 構成比の合計 | E43: =SUM(E7:E19,E24:E41) -> 0
...

Sheet 共通２_発電設備
C1: 共通様式２ 助成対象事業経費算出書 | BG1: 共通様式 助成対象事業経費内訳
BV2: ※使用しない
C3: １.再生可能エネルギー発電に関する事業（※蓄電池を含む） | G3: 申請区分を選択してください | AG3: 今回の発電設備助成条件 | AL3: 今回の蓄電池助成条件 | AN3: 助成対象容量 | AO3: =H7 -> 0 | BG3: １.太陽光発電に関する事業（※蓄電池を含む） | BK3: 交付申請（実施要綱第５条一項ア～コ） | CG3: 今回の発電設備助成条件 | CL3: 今回の蓄電池助成条件 | CN3: 助成対象容量 | CO3: ='[8]共通１－２(太陽光）'!#REF! -> #REF!
C5: 国等補助金 の併用 | D5: 発電設備 | G5: 蓄電池 | K5: 発電設備＋蓄電池 | AG5: 助成率 | AH5: =F7 -> 1/2 | AI5: 1 | AJ5: 2 | AL5: 助成率 | AM5: =J7 -> 1/2 | AN5: 1 | AO5: 2 | BG5: 国等補助金 の併用 | BH5: 発電設備 | BL5: 蓄電池 | BO5: 発電設備＋蓄電池 | CG5: kw上限 | CH5: =VLOOKUP(BJ7,CJ12:CP13,5,FALSE) -> #N/A | CL5: kwh上限 | CM5: =VLOOKUP(BN7,CT12:CW14,2,FALSE) -> #N/A
D6: 設備の種類 | E6: 発電容量（kW） | F6: 都助成率 | G6: 総容量(kWh) | H6: 助成容量(kWh) | I6: 蓄電池助成率 | J6: 都助成率 | K6: 事業費上限 | S6: 公社利用欄 | AG6: 事業上限 | AH6: 100000000 | AL6: 事業上限 | AM6: 100000000 | BH6: 設備の種類 | BI6: 発電容量（kW） | BJ6: 都助成率 | BK6: 単位上限 | BL6: 蓄電池助成率 | BM6: 都助成率 | BN6: 単位上限 | BO6: 事業費上限 | BW6: 公社利用欄 | CG6: 助成率 | CH6: =BJ7 -> 2/3 | CI6: =IF(CH6="1/2",1,2) -> 2 | CJ6: =IF(CH6="1/2",2,3) -> 3 | CL6: 助成率 | CM6: =BM7 -> 3/4 | CN6: =VLOOKUP(CM6,CQ12:CW14,2) -> #N/A | CO6: =VLOOKUP(CM6,CQ12:CW14,3) -> #N/A
F7: 1/2 | I7: =IF(G7="","",H7/G7) | J7: 1/2 | K7: １億円 | BH7: 太陽光発電 | BI7: 9 | BJ7: 2/3 | BK7: 200,000円/kW | BL7: 0.9 | BM7: 3/4 | BN7: 220,000円/kWh | BO7: 1億円 | CG7: 事業上限 | CH7: =IF(BJ7="",100000000,VLOOKUP(BJ7,CJ12:CP13,7,FALSE)) -> #N/A | CL7: 事業上限 | CM7: =VLOOKUP(BN7,CT12:CW14,4,FALSE) -> #N/A
B9: 費用区分 | C9: 経費の内訳 | D9: 助成事業に要する経費 | G9: 国等補助 | H9: 都助成 | N9: 備考 | AA9: 共通利用時 | AC9: 按分時 | BF9: 費用区分 | BG9: 経費の内訳 | BH9: 助成事業に要する経費 | BK9: 国等補助 | BL9: 都助成 | BR9: 備考 | CA9: 共通利用時 | CC9: 按分時
H10: 国等補助控除無し都助成対象経費 | I10: 国等補助控除後の都助成対象 | J10: 按分計算 | L10: 発電設備 | M10: 蓄電池 | T10: 按分率 | V10: 国等補助控除無し都助成対象経費 | Z10: 国等補助控除後の都助成対象 (H列-G列) | AA10: 発電設備 | AB10: 蓄電池 | AC10: 共通 | AD10: 発電設備 | AE10: 蓄電池 | AJ10: 太陽光発電 | AQ10: 蓄電池 | BL10: 国等補助控除無し都助成対象経費 | BM10: 国等補助控除後の都助成対象 | BN10: 按分計算 | BP10: 発電設備 | BQ10: 蓄電池 | BX10: 按分率 | BZ10: 国等補助控除後の都助成対象 (H列-G列) | CA10: 発電設備 | CB10: 蓄電池 | CC10: 共通 | CD10: 発電設備 | CE10: 蓄電池 | CJ10: 太陽光発電 | CQ10: 蓄電池
G11: 都の助成対象となる国等補助 | J11: 発電容量 | K11: 蓄電池 容量 | L11: 助成金額 | M11: 助成金額 | S11: 発電容量+蓄電容量 | T11: 発電容量 | U11: 蓄電池 容量 | V11: 発電設備 | W11: 発電設備中 共通利用設備 | X11: 蓄電池 | Y11: 蓄電池中 共通利用設備 | AA11: 国等補助控除後の都助成対象 | AB11: 国等補助控除後の都助成対象 | AC11: 国等補助控除後の都助成対象 | AD11: 国等補助控除後の都助成対象 | AE11: 国等補助控除後の都助成対象 | AG11: 費用区分 | AH11: 助成区分 | AI11: 国等補助金の併用 | AJ11: 都助成率 | AM11: 限度額① | AO11: 限度額② | AQ11: 都助成率 | AT11: 限度額① | AV11: 限度額② | BK11: 都の助成対象となる国等補助 | BN11: 発電容量 | BO11: 蓄電池 容量 | BP11: 助成金額 | BQ11: 助成金額 | BW11: 発電容量+蓄電容量 | BX11: 発電容量 | BY11: 蓄電池 容量 | CA11: 国等補助控除後の都助成対象 | CB11: 国等補助控除後の都助成対象 | CC11: 国等補助控除後の都助成対象 | CD11: 国等補助控除後の都助成対象 | CE11: 国等補助控除後の都助成対象 | CG11: 費用区分 | CH11: 助成区分 | CI11: 国等補助金の併用 | CJ11: 都助成率 | CM11: 限度額① | CO11: 限度額② | CQ11: 都助成率 | CT11: 限度額① | CV11: 限度額②
D12: 明細番号 | E12: 助成区分 | F12: 金額 | G12: 金額 | H12: 金額 | I12: 金額 | J12: ｋW | K12: ｋWh | L12: 金額 | M12: 金額 | S12: kW+kWh | T12: ％ | U12: ％ | V12: 金額 | W12: 金額 | X12: 金額 | Y12: 金額 | Z12: 金額 | AA12: 金額 | AB12: 金額 | AC12: 金額 | AD12: 金額 | AE12: 金額 | AG12: 設計費 | AH12: 発電設備 | AI12: あり | AJ12: 1/2 | AK12: 1 | AL12: 2 | AO12: １億円 | AP12: 100000000 | AQ12: 1/2 | AR12: 1 | AS12: 2 | AV12: １億円 | AW12: 100000000 | BH12: 明細番号 | BI12: 助成区分 | BJ12: 金額 | BK12: 金額 | BL12: 金額 | BM12: 金額 | BN12: ｋW | BO12: ｋWh | BP12: 金額 | BQ12: 金額 | BU12: #VALUE!
I13: =IF(E$7="","",SUM(AA13:AB13,AD13:AE13)) | L13: =IF(E$7="","",(AA13+AD13)*$AI$5/$AJ$5) | M13: =IFERROR((AB13+AE13)*$AN$5/$AO$5,"") -> 0 | S13: =SUM(J13:K13) -> 0 | T13: =IFERROR((J13/S13),"") | U13: =IFERROR((1-T13),"") | V13: =IF(E13="発電設備",H13,0) -> 0 | W13: =IF(E13="共通設備",ROUNDDOWN(H13*T13,0),0) -> 0 | X13: =IF(E13="蓄電池",H13*$I$7,0) -> 0 | Y13: =IF(E13="共通設備",(H13-ROUNDDOWN(H13*T13,0))*$I$7,0) -> 0 | Z13: =H13-G13 -> 0 | AA13: =IF(E13="発電設備",Z13,0) -> 0 | AB13: =IF(E13="蓄電池",Z13*$I$7,0) -> 0 | AC13: =IF(E13="共通設備",Z13,"") | AD13: =IF(AC13="",0,ROUNDDOWN(AC13*T13,0)) -> 0 | AE13: =IF(AC13="",0,(AC13-AD13)*$I$7) -> 0 | AG13: 設備費 | AH13: 蓄電池 | AI13: なし | AJ13: 1/2 | AK13: 1 | AL13: 2 | AO13: １億円 | AP13: 100000000 | AQ13: 1/2 | AR13: 1 | AS13: 2 | AV13: １億円 | AW13: 100000000 | BF13: 設備費 | BG13: 太陽電池モジュール | BH13: 見積明細番号１、２ | BI13: 発電設備 | BJ13: 1000000 | BL13: 1000000 | BM13: =SUM(CA13:CB13,CD13:CE13) -> 0 | BP13: =IFERROR((CA13+CD13)*$AI$5/$AJ$5,"") -> 0 | BQ13: =IFERROR((CB13+CE13)*$AN$5/$AO$5,"") -> 0
I14: =IF(E$7="","",SUM(AA14:AB14,AD14:AE14)) | L14: =IF(E$7="","",(AA14+AD14)*$AI$5/$AJ$5) | M14: =IFERROR((AB14+AE14)*$AN$5/$AO$5,"") -> 0 | S14: =SUM(J14:K14) -> 0 | T14: =IFERROR((J14/S14),"") | U14: =IFERROR((1-T14),"") | V14: =IF(E14="発電設備",H14,0) -> 0 | W14: =IF(E14="共通設備",ROUNDDOWN(H14*T14,0),0) -> 0 | X14: =IF(E14="蓄電池",H14*$I$7,0) -> 0 | Y14: =IF(E14="共通設備",(H14-ROUNDDOWN(H14*T14,0))*$I$7,0) -> 0 | Z14: =H14-G14 -> 0 | AA14: =IF(E14="発電設備",Z14,0) -> 0 | AB14: =IF(E14="蓄電池",Z14*$I$7,0) -> 0 | AC14: =IF(E14="共通設備",Z14,"") | AD14: =IF(AC14="",0,ROUNDDOWN(AC14*T14,0)) -> 0 | AE14: =IF(AC14="",0,(AC14-AD14)*$I$7) -> 0 | AG14: 工事費 | AH14: 共通設備 | AI14: あり | AJ14: =AA38/SUM(V38:W38) -> #DIV/0! | AQ14: =AB38/(X38+Y38) -> #DIV/0! | BF14: 設備費 | BG14: パワーコンディショナー | BH14: 見積明細番号３ | BI14: 発電設備 | BJ14: 260000 | BL14: 260000 | BM14: =SUM(CA14:CB14,CD14:CE14) -> 0 | BP14: =IFERROR((CA14+CD14)*$AI$5/$AJ$5,"") -> 0 | BQ14: =IFERROR((CB14+CE14)*$AN$5/$AO$5,"") -> 0
I15: =IF(E$7="","",SUM(AA15:AB15,AD15:AE15)) | L15: =IF(E$7="","",(AA15+AD15)*$AI$5/$AJ$5) | M15: =IFERROR((AB15+AE15)*$AN$5/$AO$5,"") -> 0 | S15: =SUM(J15:K15) -> 0 | T15: =IFERROR((J15/S15),"") | U15: =IFERROR((1-T15),"") | V15: =IF(E15="発電設備",H15,0) -> 0 | W15: =IF(E15="共通設備",ROUNDDOWN(H15*T15,0),0) -> 0 | X15: =IF(E15="蓄電池",H15*$I$7,0) -> 0 | Y15: =IF(E15="共通設備",(H15-ROUNDDOWN(H15*T15,0))*$I$7,0) -> 0 | Z15: =H15-G15 -> 0 | AA15: =IF(E15="発電設備",Z15,0) -> 0 | AB15: =IF(E15="蓄電池",Z15*$I$7,0) -> 0 | AC15: =IF(E15="共通設備",Z15,"") | AD15: =IF(AC15="",0,ROUNDDOWN(AC15*T15,0)) -> 0 | AE15: =IF(AC15="",0,(AC15-AD15)*$I$7) -> 0 | AG15: 収益 | AI15: なし | AJ15: 1 | AQ15: 1 | BF15: 設備費 | BG15: 接続箱・ハイブリッドPCS | BH15: 見積明細番号４ | BI15: 共通設備 | BJ15: 320000 | BL15: 320000 | BM15: =SUM(CA15:CB15,CD15:CE15) -> 0 | BN15: 4.5 | BO15: 10 | BP15: =IFERROR((CA15+CD15)*$AI$5/$AJ$5,"") -> 0 | BQ15: =IFERROR((CB15+CE15)*$CN$6/$CO$6,"") | BR15: 共通設備の利用範囲①
I16: =IF(E$7="","",SUM(AA16:AB16,AD16:AE16)) | L16: =IF(E$7="","",(AA16+AD16)*$AI$5/$AJ$5) | M16: =IFERROR((AB16+AE16)*$AN$5/$AO$5,"") -> 0 | S16: =SUM(J16:K16) -> 0 | T16: =IFERROR((J16/S16),"") | U16: =IFERROR((1-T16),"") | V16: =IF(E16="発電設備",H16,0) -> 0 | W16: =IF(E16="共通設備",ROUNDDOWN(H16*T16,0),0) -> 0 | X16: =IF(E16="蓄電池",H16*$I$7,0) -> 0 | Y16: =IF(E16="共通設備",(H16-ROUNDDOWN(H16*T16,0))*$I$7,0) -> 0 | Z16: =H16-G16 -> 0 | AA16: =IF(E16="発電設備",Z16,0) -> 0 | AB16: =IF(E16="蓄電池",Z16*$I$7,0) -> 0 | AC16: =IF(E16="共通設備",Z16,"") | AD16: =IF(AC16="",0,ROUNDDOWN(AC16*T16,0)) -> 0 | AE16: =IF(AC16="",0,(AC16-AD16)*$I$7) -> 0 | BF16: 設備費 | BG16: データ計測装置・表示装置 | BH16: 見積明細番号７ | BI16: 共通設備 | BJ16: 220000 | BL16: 220000 | BM16: =SUM(CA16:CB16,CD16:CE16) -> 0 | BN16: 7.5 | BO16: 10 | BP16: =IFERROR((CA16+CD16)*$AI$5/$AJ$5,"") -> 0 | BQ16: =IFERROR((CB16+CE16)*$CN$6/$CO$6,"") | BR16: 共通設備の利用範囲②
I17: =IF(E$7="","",SUM(AA17:AB17,AD17:AE17)) | L17: =IF(E$7="","",(AA17+AD17)*$AI$5/$AJ$5) | M17: =IFERROR((AB17+AE17)*$AN$5/$AO$5,"") -> 0 | S17: =SUM(J17:K17) -> 0 | T17: =IFERROR((J17/S17),"") | U17: =IFERROR((1-T17),"") | V17: =IF(E17="発電設備",H17,0) -> 0 | W17: =IF(E17="共通設備",ROUNDDOWN(H17*T17,0),0) -> 0 | X17: =IF(E17="蓄電池",H17*$I$7,0) -> 0 | Y17: =IF(E17="共通設備",(H17-ROUNDDOWN(H17*T17,0))*$I$7,0) -> 0 | Z17: =H17-G17 -> 0 | AA17: =IF(E17="発電設備",Z17,0) -> 0 | AB17: =IF(E17="蓄電池",Z17*$I$7,0) -> 0 | AC17: =IF(E17="共通設備",Z17,"") | AD17: =IF(AC17="",0,ROUNDDOWN(AC17*T17,0)) -> 0 | AE17: =IF(AC17="",0,(AC17-AD17)*$I$7) -> 0 | BF17: 設備費 | BG17: 蓄電池 | BH17: 見積明細番号10 | BI17: 蓄電池 | BJ17: 380000 | BL17: 380000 | BM17: =SUM(CA17:CB17,CD17:CE17) -> 0 | BP17: =IFERROR((CA17+CD17)*$AI$5/$AJ$5,"") -> 0 | BQ17: =IFERROR((CB17+CE17)*$CN$6/$CO$6,"")
I18: =IF(E$7="","",SUM(AA18:AB18,AD18:AE18)) | L18: =IF(E$7="","",(AA18+AD18)*$AI$5/$AJ$5) | M18: =IFERROR((AB18+AE18)*$AN$5/$AO$5,"") -> 0 | S18: =SUM(J18:K18) -> 0 | T18: =IFERROR((J18/S18),"") | U18: =IFERROR((1-T18),"") | V18: =IF(E18="発電設備",H18,0) -> 0 | W18: =IF(E18="共通設備",ROUNDDOWN(H18*T18,0),0) -> 0 | X18: =IF(E18="蓄電池",H18*$I$7,0) -> 0 | Y18: =IF(E18="共通設備",(H18-ROUNDDOWN(H18*T18,0))*$I$7,0) -> 0 | Z18: =H18-G18 -> 0 | AA18: =IF(E18="発電設備",Z18,0) -> 0 | AB18: =IF(E18="蓄電池",Z18*$I$7,0) -> 0 | AC18: =IF(E18="共通設備",Z18,"") | AD18: =IF(AC18="",0,ROUNDDOWN(AC18*T18,0)) -> 0 | AE18: =IF(AC18="",0,(AC18-AD18)*$I$7) -> 0 | AG18: 申請区分を選択してください | AH18: 都の助成対象となる国等補助交付額 | AI18: 国等補助控除無し都助成対象経費 | AJ18: 国等補助控除後の都助成対象 | AK18: 都仮算定 助成金額 | AL18: 申請区分を選択してください | AN18: 区市町村 or 民間判断 | BF18: 工事費 | BG18: モジュール設置工事 | BH18: 見積明細番号11 | BI18: 発電設備 | BJ18: 300000 | BL18: 300000 | BM18: =SUM(CA18:CB18,CD18:CE18) -> 0 | BP18: =IFERROR((CA18+CD18)*$AI$5/$AJ$5,"") -> 0 | BQ18: =IFERROR((CB18+CE18)*$CN$6/$CO$6,"")
I19: =IF(E$7="","",SUM(AA19:AB19,AD19:AE19)) | L19: =IF(E$7="","",(AA19+AD19)*$AI$5/$AJ$5) | M19: =IFERROR((AB19+AE19)*$AN$5/$AO$5,"") -> 0 | S19: =SUM(J19:K19) -> 0 | T19: =IFERROR((J19/S19),"") | U19: =IFERROR((1-T19),"") | V19: =IF(E19="発電設備",H19,0) -> 0 | W19: =IF(E19="共通設備",ROUNDDOWN(H19*T19,0),0) -> 0 | X19: =IF(E19="蓄電池",H19*$I$7,0) -> 0 | Y19: =IF(E19="共通設備",(H19-ROUNDDOWN(H19*T19,0))*$I$7,0) -> 0 | Z19: =H19-G19 -> 0 | AA19: =IF(E19="発電設備",Z19,0) -> 0 | AB19: =IF(E19="蓄電池",Z19*$I$7,0) -> 0 | AC19: =IF(E19="共通設備",Z19,"") | AD19: =IF(AC19="",0,ROUNDDOWN(AC19*T19,0)) -> 0 | AE19: =IF(AC19="",0,(AC19-AD19)*$I$7) -> 0 | AG19: 交付申請（助成対象事業者”区市町村等”） | AH19: 都の助成対象となる国等補助交付額 | AI19: 国等補助控除無し都助成対象経費 | AJ19: 国等補助控除後の都助成対象 | AK19: 都助成交付申請額（合計） | AL19: 交付申請額 | AM19: 5 | AN19: =VLOOKUP(G3,AG19:AM26,7,FALSE) -> #N/A | BF19: 工事費 | BG19: 蓄電池設置工事費 | BH19: 見積明細番号12 | BI19: 蓄電池 | BJ19: 100000 | BL19: 100000 | BM19: =SUM(CA19:CB19,CD19:CE19) -> 0 | BP19: =IFERROR((CA19+CD19)*$AI$5/$AJ$5,"") -> 0 | BQ19: =IFERROR((CB19+CE19)*$CN$6/$CO$6,"")
I20: =IF(E$7="","",SUM(AA20:AB20,AD20:AE20)) | L20: =IF(E$7="","",(AA20+AD20)*$AI$5/$AJ$5) | M20: =IFERROR((AB20+AE20)*$AN$5/$AO$5,"") -> 0 | S20: =SUM(J20:K20) -> 0 | T20: =IFERROR((J20/S20),"") | U20: =IFERROR((1-T20),"") | V20: =IF(E20="発電設備",H20,0) -> 0 | W20: =IF(E20="共通設備",ROUNDDOWN(H20*T20,0),0) -> 0 | X20: =IF(E20="蓄電池",H20*$I$7,0) -> 0 | Y20: =IF(E20="共通設備",(H20-ROUNDDOWN(H20*T20,0))*$I$7,0) -> 0 | Z20: =H20-G20 -> 0 | AA20: =IF(E20="発電設備",Z20,0) -> 0 | AB20: =IF(E20="蓄電池",Z20*$I$7,0) -> 0 | AC20: =IF(E20="共通設備",Z20,"") | AD20: =IF(AC20="",0,ROUNDDOWN(AC20*T20,0)) -> 0 | AE20: =IF(AC20="",0,(AC20-AD20)*$I$7) -> 0 | AG20: 計画変更（助成対象事業者”区市町村等”） | AH20: 都の助成対象となる国等補助交付額 | AI20: 国等補助控除無し都助成対象経費 | AJ20: 国等補助控除後の都助成対象 | AK20: 都助成交付申請額（合計） | AL20: 交付申請額 | AM20: 5 | BF20: 設計費 | BG20: 太陽光設計費 | BH20: 見積明細番号13 | BI20: 発電設備 | BJ20: 50000 | BL20: 50000 | BM20: =SUM(CA20:CB20,CD20:CE20) -> 0 | BP20: =IFERROR((CA20+CD20)*$AI$5/$AJ$5,"") -> 0 | BQ20: =IFERROR((CB20+CE20)*$CN$6/$CO$6,"")
I21: =IF(E$7="","",SUM(AA21:AB21,AD21:AE21)) | L21: =IF(E$7="","",(AA21+AD21)*$AI$5/$AJ$5) | M21: =IFERROR((AB21+AE21)*$AN$5/$AO$5,"") -> 0 | S21: =SUM(J21:K21) -> 0 | T21: =IFERROR((J21/S21),"") | U21: =IFERROR((1-T21),"") | V21: =IF(E21="発電設備",H21,0) -> 0 | W21: =IF(E21="共通設備",ROUNDDOWN(H21*T21,0),0) -> 0 | X21: =IF(E21="蓄電池",H21*$I$7,0) -> 0 | Y21: =IF(E21="共通設備",(H21-ROUNDDOWN(H21*T21,0))*$I$7,0) -> 0 | Z21: =H21-G21 -> 0 | AA21: =IF(E21="発電設備",Z21,0) -> 0 | AB21: =IF(E21="蓄電池",Z21*$I$7,0) -> 0 | AC21: =IF(E21="共通設備",Z21,"") | AD21: =IF(AC21="",0,ROUNDDOWN(AC21*T21,0)) -> 0 | AE21: =IF(AC21="",0,(AC21-AD21)*$I$7) -> 0 | AG21: 実績報告（助成対象事業者”区市町村等”） | AH21: 都の助成対象となる国等補助交付額 | AI21: 国等補助控除無し都助成対象経費 | AJ21: 国等補助控除後の都助成対象 | AK21: 都助成実績報告額（合計） | AL21: 実績報告額 | AM21: 5 | BF21: 設計費 | BG21: 蓄電池設計費 | BH21: 見積明細番号14 | BI21: 蓄電池 | BJ21: 30000 | BL21: 30000 | BM21: =SUM(CA21:CB21,CD21:CE21) -> 0 | BP21: =IFERROR((CA21+CD21)*$AI$5/$AJ$5,"") -> 0 | BQ21: =IFERROR((CB21+CE21)*$CN$6/$CO$6,"")
